Workbook
Name 【記載例】シフト記号: #REF!
Name HIT_ROW107: 運営状況点検書!#REF!
Name HIT_ROW109: 運営状況点検書!#REF!
Name HIT_ROW124: 運営状況点検書!#REF!
Name HIT_ROW180: 運営状況点検書!#REF!
Name HIT_ROW81: 運営状況点検書!#REF!
Name シフト記号表: [1]シフト記号表!$C$6:$C$47
Name 介護支援専門員: プルダウン・リスト!$F$15:$F$23
Name 介護従業者: プルダウン・リスト!$D$15:$D$23
Name 看護職員: プルダウン・リスト!$E$15:$E$23
Name 管理者: プルダウン・リスト!$C$15:$C$23
Name 計画作成担当者: プルダウン・リスト!$G$15:$G$23
Name 職種: [1]プルダウン・リスト!$C$14:$L$14
Name 職種: プルダウン・リスト!$C$14:$L$14

Sheet 運営状況点検書
A1: 令和８年度 運 営 状 況 点 検 書
A2: 【看護小規模多機能型居宅介護】
A4: 点検日 | K4: 点検者（職・氏名）※原則として管理者が行ってください。
A5: 令和 年 月 日
A8: 法人 | C8: 名 称
C9: 代表者職・氏名
A11: 事業所 | C11: 介護保険 | H11: 14
C12: 事業所番号
C13: フリガナ
C15: 名 称
C18: 所 在 地 | H18: 〒
H19: 伊勢原市
C21: 連 絡 先 | H21: 電話番号 | T21: ＦＡＸ番号
C23: 開設年月日 | H23: 平成・令和 | M23: 年 | P23: 月 | S23: 日
C25: 定 員 | H25: 登録定員 | O25: 人 | P25: 通いの定員 | W25: 人 | X25: 宿泊の定員 | AE25: 人
A28: 短期利用居宅介護 実施の有無 | W28: 有 ・ 無
A30: ※「勤務形態一覧表」等を添付してください。
W34: ○ | Z34: × | AC34: ―
A40: （１） 代表者
B41: 問1 | C41: 保健師若しくは看護師である。（問1に該当しない場合、問2,3に回答）
B43: 問2 | C43: （問1に該当しない場合に回答） 特別養護老人ホーム、老人デイサービスセンター、介護老人保健施設、 介護医療院、小規模多機能型居宅介護事業所、認知症対応型共同生活介護事業所、複合型サービス事業所等の従業者、訪問介護員等として認知症である者の介護に従事した経験を有する者若しくは保健医療サービス若しくは福祉サービスの経営に携わった経験を有する者｡ | AF43: 省令第34号第65条
AF44: 老計発第0331004号2(3)②③
B45: 問3 | C45: （問1に該当しない場合に回答） 「認知症対応型サービス事業開設者研修」を修了している。 | AF45: 老計発第0331006号3
A48: （２） 管理者
B49: 問1 | C49: 常勤専従職員を配置している。 ※指定看護小規模多機能型居宅介護事業所の管理上支障がない場合は、当該看護小規模多機能型居宅介護事業所の他の職務、当該看護小規模多機能型居宅介護事業所に併設する認知症対応型共同生活介護事業所、地域密着型特定施設、地域密着型介護老人福祉施設、介護療養型医療施設(療養病床を有する診療所に限る)、介護医療院の職務若しくは他の事業所、施設等の職務の兼務が可能。 | AF49: 省令第34号第64条第1項
AF50: 老計発第0331004号2(2)①
B51: 問2 | C51: 保健師若しくは看護師である。（問2に該当しない場合、問3,4に回答）
B53: 問3 | C53: （問2に該当しない場合に回答） 特別養護老人ホーム、老人デイサービスセンター、介護老人保健施設、介護医療院、小規模多機能型居宅介護事業所、認知症対応型共同生活介護事業所、複合型サービス事業所等の従業者又は訪問介護員等として、３年以上、認知症である者の介護に従事した経験がある者 | AF53: 省令第34号第64条第2項
AF54: 老計発第0331004号2(2)②
B55: 問4 | C55: （問2に該当しない場合に回答） 「認知症介護実践者研修」もしくは「基礎課程」及び「認知症対応型サービス事業管理者研修」を修了している。 | AF55: 老計発第0331006号2
B57: 問5 | C57: 管理者は、暴力団員等又は暴力団員等と密接な関係を有する者ではない。 | AF57: 老計発第0331006号2
A60: （３） 介護支援専門員
B61: 問1 | C61: 専従職員を配置している。 ※利用者の処遇に支障がない場合は、当該看護小規模多機能型居宅介護事業所の他の職務又は当該看護小規模多機能型居宅介護事業所に併設する認知症対応型共同生活介護事業所、指定地域密着型特定施設、指定地域密着型介護老人福祉施設、指定介護療養型医療施設(療養病床を有する診療所に限る)、介護医療院の職務を兼務可能。 | AF61: 省令第34号第63条第10項
B63: 問2 | C63: 「小規模多機能型サービス等計画作成担当者研修」を修了している。 | AF63: 老計発第0331006号1
B65: 問3 | C65: 介護支援専門員は、看護小規模多機能型居宅介護計画の作成に当たっては、看護師等と密接な連携を図りながら行っている。 | AF65: 老計発第0331006号1
A68: （４） 従業者
B69: 問1 | C69: 介護従業者のうち１人以上は、常勤の保健師又は看護師を配置している。 | AF69: 省令第34号第63条第3項
B71: 問2 | C71: 従業者のうち、常勤換算方法で２．５以上は、保健師、看護師又は准看護師（以下、「看護職員」という）を配置している。 | AF71: 省令第34号第63条第4項
B73: 問3 | C73: 通いサービス及び訪問サービス提供に当たる従業者のうち１以上は、看護職員である。
B75: 問4 | C75: 常勤換算方法で、訪問サービスの提供に当たる介護従業者を２以上配置している。 | AF75: 省令第34号第63条第4項
...

Sheet 看多機
C1: （参考様式） | J1: 従業者の勤務の体制及び勤務形態一覧表 | AP1: サービス種別（ | AQ1: 看護小規模多機能型居宅介護 | BG1: ）
Y2: 令和 | Z2: 8 | AB2: ( | AC2: =IF(Z2=0,"",YEAR(DATE(2018+Z2,1,1))) -> 2026 | AE2: ) | AF2: 年 | AG2: 4 | AI2: 月 | AP2: 事業所名（ | AQ2: ○○サービス | BG2: ）
BA3: (1) | BB3: 計画
AH5: (2) 事業所における常勤の従業者が勤務すべき時間数 | AT5: 8 | AV5: 時間/日 | AX5: 40 | AZ5: 時間/週 | BB5: 160 | BD5: 時間/月
AY7: 当月の日数 | BB7: =DAY(EOMONTH(DATE(AC2,AG2,1),0)) -> 30 | BD7: 日
AN9: (4) 定員 | AX9: (5) 利用者数（通いサービス）
B10: (3) 日中／夜間及び深夜の時間帯の区分 | AO10: 登録定員 | AV10: 人 | AY10: 前年度の平均値 | BE10: 人
B11: 利用者の生活時間帯（日中） | J11: 0.29166667 | M11: ～ | N11: 0.83333333 | AO11: 通いサービスの定員 | AV11: 人 | AY11: （新規に指定を受ける場合）
B12: 夜間及び深夜の時間帯 | J12: 0.83333333 | M12: ～ | N12: 0.29166667 | AO12: 宿泊サービスの定員 | AV12: 人 | AY12: 推定数 | BE12: 人
B14: No | C14: (6) 職種 | G14: (7) 勤務 形態 | H14: (8) 資格 | L14: (9) 氏 名 | O14: 日中／夜間及び深夜 の区分 | AH14: (10) 勤 務 時 間 数 | AM14: （宿直 ･･･ | AP14: ） | AY14: =IF(BB3="計画","(11)1～4週の勤務時間数合計","(11)1か月の勤務時間数 合計") -> (11)1～4週の勤務時間数合計 | BA14: (12) 週平均 勤務時間数 | BC14: (13) 兼務状況 （兼務先/兼務する職務の内容 /兼務時間数））
T15: 1週目 | AA15: 2週目 | AH15: 3週目 | AO15: 4週目 | AV15: 5週目
T16: 1 | U16: 2 | V16: 3 | W16: 4 | X16: 5 | Y16: 6 | Z16: 7 | AA16: 8 | AB16: 9 | AC16: 10 | AD16: 11 | AE16: 12 | AF16: 13 | AG16: 14 | AH16: 15 | AI16: 16 | AJ16: 17 | AK16: 18 | AL16: 19 | AM16: 20 | AN16: 21 | AO16: 22 | AP16: 23 | AQ16: 24 | AR16: 25 | AS16: 26 | AT16: 27 | AU16: 28 | AV16: =IF($BB$3="実績",IF(DAY(DATE($AC$2,$AG$2,29))=29,29,""),"") | AW16: =IF($BB$3="実績",IF(DAY(DATE($AC$2,$AG$2,30))=30,30,""),"") | AX16: =IF($BB$3="実績",IF(DAY(DATE($AC$2,$AG$2,31))=31,31,""),"")
T17: =WEEKDAY(DATE($AC$2,$AG$2,1)) -> 4 | U17: =WEEKDAY(DATE($AC$2,$AG$2,2)) -> 5 | V17: =WEEKDAY(DATE($AC$2,$AG$2,3)) -> 6 | W17: =WEEKDAY(DATE($AC$2,$AG$2,4)) -> 7 | X17: =WEEKDAY(DATE($AC$2,$AG$2,5)) -> 1 | Y17: =WEEKDAY(DATE($AC$2,$AG$2,6)) -> 2 | Z17: =WEEKDAY(DATE($AC$2,$AG$2,7)) -> 3 | AA17: =WEEKDAY(DATE($AC$2,$AG$2,8)) -> 4 | AB17: =WEEKDAY(DATE($AC$2,$AG$2,9)) -> 5 | AC17: =WEEKDAY(DATE($AC$2,$AG$2,10)) -> 6 | AD17: =WEEKDAY(DATE($AC$2,$AG$2,11)) -> 7 | AE17: =WEEKDAY(DATE($AC$2,$AG$2,12)) -> 1 | AF17: =WEEKDAY(DATE($AC$2,$AG$2,13)) -> 2 | AG17: =WEEKDAY(DATE($AC$2,$AG$2,14)) -> 3 | AH17: =WEEKDAY(DATE($AC$2,$AG$2,15)) -> 4 | AI17: =WEEKDAY(DATE($AC$2,$AG$2,16)) -> 5 | AJ17: =WEEKDAY(DATE($AC$2,$AG$2,17)) -> 6 | AK17: =WEEKDAY(DATE($AC$2,$AG$2,18)) -> 7 | AL17: =WEEKDAY(DATE($AC$2,$AG$2,19)) -> 1 | AM17: =WEEKDAY(DATE($AC$2,$AG$2,20)) -> 2 | AN17: =WEEKDAY(DATE($AC$2,$AG$2,21)) -> 3 | AO17: =WEEKDAY(DATE($AC$2,$AG$2,22)) -> 4 | AP17: =WEEKDAY(DATE($AC$2,$AG$2,23)) -> 5 | AQ17: =WEEKDAY(DATE($AC$2,$AG$2,24)) -> 6 | AR17: =WEEKDAY(DATE($AC$2,$AG$2,25)) -> 7 | AS17: =WEEKDAY(DATE($AC$2,$AG$2,26)) -> 1 | AT17: =WEEKDAY(DATE($AC$2,$AG$2,27)) -> 2 | AU17: =WEEKDAY(DATE($AC$2,$AG$2,28)) -> 3 | AV17: =IF(AV16=29,WEEKDAY(DATE($AC$2,$AG$2,29)),0) -> 0 | AW17: =IF(AW16=30,WEEKDAY(DATE($AC$2,$AG$2,30)),0) -> 0 | AX17: =IF(AX16=31,WEEKDAY(DATE($AC$2,$AG$2,31)),0) -> 0
T18: =IF(T17=1,"日",IF(T17=2,"月",IF(T17=3,"火",IF(T17=4,"水",IF(T17=5,"木",IF(T17=6,"金","土")))))) -> 水 | U18: =IF(U17=1,"日",IF(U17=2,"月",IF(U17=3,"火",IF(U17=4,"水",IF(U17=5,"木",IF(U17=6,"金","土")))))) -> 木 | V18: =IF(V17=1,"日",IF(V17=2,"月",IF(V17=3,"火",IF(V17=4,"水",IF(V17=5,"木",IF(V17=6,"金","土")))))) -> 金 | W18: =IF(W17=1,"日",IF(W17=2,"月",IF(W17=3,"火",IF(W17=4,"水",IF(W17=5,"木",IF(W17=6,"金","土")))))) -> 土 | X18: =IF(X17=1,"日",IF(X17=2,"月",IF(X17=3,"火",IF(X17=4,"水",IF(X17=5,"木",IF(X17=6,"金","土")))))) -> 日 | Y18: =IF(Y17=1,"日",IF(Y17=2,"月",IF(Y17=3,"火",IF(Y17=4,"水",IF(Y17=5,"木",IF(Y17=6,"金","土")))))) -> 月 | Z18: =IF(Z17=1,"日",IF(Z17=2,"月",IF(Z17=3,"火",IF(Z17=4,"水",IF(Z17=5,"木",IF(Z17=6,"金","土")))))) -> 火 | AA18: =IF(AA17=1,"日",IF(AA17=2,"月",IF(AA17=3,"火",IF(AA17=4,"水",IF(AA17=5,"木",IF(AA17=6,"金","土")))))) -> 水 | ... AU18: =IF(AU17=1,"日",IF(AU17=2,"月",IF(AU17=3,"火",IF(AU17=4,"水",IF(AU17=5,"木",IF(AU17=6,"金","土")))))) -> 火 | AV18: =IF(AV17=1,"日",IF(AV17=2,"月",IF(AV17=3,"火",IF(AV17=4,"水",IF(AV17=5,"木",IF(AV17=6,"金",IF(AV17=0,"","土"))))))) | AW18: =IF(AW17=1,"日",IF(AW17=2,"月",IF(AW17=3,"火",IF(AW17=4,"水",IF(AW17=5,"木",IF(AW17=6,"金",IF(AW17=0,"","土"))))))) | AX18: =IF(AX17=1,"日",IF(AX17=2,"月",IF(AX17=3,"火",IF(AX17=4,"水",IF(AX17=5,"木",IF(AX17=6,"金",IF(AX17=0,"","土")))))))
O19: シフト記号
B20: 1 | O20: 日中の勤務時間数 | T20: =IF(T19="","",VLOOKUP(T19,'シフト記号表（勤務時間帯）'!$C$5:$W$46,21,FALSE)) | U20: =IF(U19="","",VLOOKUP(U19,'シフト記号表（勤務時間帯）'!$C$5:$W$46,21,FALSE)) | V20: =IF(V19="","",VLOOKUP(V19,'シフト記号表（勤務時間帯）'!$C$5:$W$46,21,FALSE)) | W20: =IF(W19="","",VLOOKUP(W19,'シフト記号表（勤務時間帯）'!$C$5:$W$46,21,FALSE)) | X20: =IF(X19="","",VLOOKUP(X19,'シフト記号表（勤務時間帯）'!$C$5:$W$46,21,FALSE)) | Y20: =IF(Y19="","",VLOOKUP(Y19,'シフト記号表（勤務時間帯）'!$C$5:$W$46,21,FALSE)) | Z20: =IF(Z19="","",VLOOKUP(Z19,'シフト記号表（勤務時間帯）'!$C$5:$W$46,21,FALSE)) | AA20: =IF(AA19="","",VLOOKUP(AA19,'シフト記号表（勤務時間帯）'!$C$5:$W$46,21,FALSE)) | ... AX20: =IF(AX19="","",VLOOKUP(AX19,'シフト記号表（勤務時間帯）'!$C$5:$W$46,21,FALSE)) | AY20: =IF($BB$3="計画",SUM(T20:AU20),IF($BB$3="実績",SUM(T20:AX20),"")) -> 0 | BA20: =IF($BB$3="計画",AY20/4,IF($BB$3="実績",(AY20/($BB$7/7)),"")) -> 0
F21: =C20 -> 0 | O21: 夜間・深夜の勤務時間数 | T21: =IF(T19="","",VLOOKUP(T19,'シフト記号表（勤務時間帯）'!$C$5:$Y$46,23,FALSE)) | U21: =IF(U19="","",VLOOKUP(U19,'シフト記号表（勤務時間帯）'!$C$5:$Y$46,23,FALSE)) | V21: =IF(V19="","",VLOOKUP(V19,'シフト記号表（勤務時間帯）'!$C$5:$Y$46,23,FALSE)) | W21: =IF(W19="","",VLOOKUP(W19,'シフト記号表（勤務時間帯）'!$C$5:$Y$46,23,FALSE)) | X21: =IF(X19="","",VLOOKUP(X19,'シフト記号表（勤務時間帯）'!$C$5:$Y$46,23,FALSE)) | Y21: =IF(Y19="","",VLOOKUP(Y19,'シフト記号表（勤務時間帯）'!$C$5:$Y$46,23,FALSE)) | Z21: =IF(Z19="","",VLOOKUP(Z19,'シフト記号表（勤務時間帯）'!$C$5:$Y$46,23,FALSE)) | AA21: =IF(AA19="","",VLOOKUP(AA19,'シフト記号表（勤務時間帯）'!$C$5:$Y$46,23,FALSE)) | ... AX21: =IF(AX19="","",VLOOKUP(AX19,'シフト記号表（勤務時間帯）'!$C$5:$Y$46,23,FALSE)) | AY21: =IF($BB$3="計画",SUM(T21:AU21),IF($BB$3="実績",SUM(T21:AX21),"")) -> 0 | BA21: =IF($BB$3="計画",AY21/4,IF($BB$3="実績",(AY21/($BB$7/7)),"")) -> 0
O22: シフト記号
B23: =B20+1 -> 2 | O23: 日中の勤務時間数 | T23: =IF(T22="","",VLOOKUP(T22,'シフト記号表（勤務時間帯）'!$C$5:$W$46,21,FALSE)) | U23: =IF(U22="","",VLOOKUP(U22,'シフト記号表（勤務時間帯）'!$C$5:$W$46,21,FALSE)) | V23: =IF(V22="","",VLOOKUP(V22,'シフト記号表（勤務時間帯）'!$C$5:$W$46,21,FALSE)) | W23: =IF(W22="","",VLOOKUP(W22,'シフト記号表（勤務時間帯）'!$C$5:$W$46,21,FALSE)) | X23: =IF(X22="","",VLOOKUP(X22,'シフト記号表（勤務時間帯）'!$C$5:$W$46,21,FALSE)) | Y23: =IF(Y22="","",VLOOKUP(Y22,'シフト記号表（勤務時間帯）'!$C$5:$W$46,21,FALSE)) | Z23: =IF(Z22="","",VLOOKUP(Z22,'シフト記号表（勤務時間帯）'!$C$5:$W$46,21,FALSE)) | AA23: =IF(AA22="","",VLOOKUP(AA22,'シフト記号表（勤務時間帯）'!$C$5:$W$46,21,FALSE)) | ... AX23: =IF(AX22="","",VLOOKUP(AX22,'シフト記号表（勤務時間帯）'!$C$5:$W$46,21,FALSE)) | AY23: =IF($BB$3="計画",SUM(T23:AU23),IF($BB$3="実績",SUM(T23:AX23),"")) -> 0 | BA23: =IF($BB$3="計画",AY23/4,IF($BB$3="実績",(AY23/($BB$7/7)),"")) -> 0
F24: =C23 -> 0 | O24: 夜間・深夜の勤務時間数 | T24: =IF(T22="","",VLOOKUP(T22,'シフト記号表（勤務時間帯）'!$C$5:$Y$46,23,FALSE)) | U24: =IF(U22="","",VLOOKUP(U22,'シフト記号表（勤務時間帯）'!$C$5:$Y$46,23,FALSE)) | V24: =IF(V22="","",VLOOKUP(V22,'シフト記号表（勤務時間帯）'!$C$5:$Y$46,23,FALSE)) | W24: =IF(W22="","",VLOOKUP(W22,'シフト記号表（勤務時間帯）'!$C$5:$Y$46,23,FALSE)) | X24: =IF(X22="","",VLOOKUP(X22,'シフト記号表（勤務時間帯）'!$C$5:$Y$46,23,FALSE)) | Y24: =IF(Y22="","",VLOOKUP(Y22,'シフト記号表（勤務時間帯）'!$C$5:$Y$46,23,FALSE)) | Z24: =IF(Z22="","",VLOOKUP(Z22,'シフト記号表（勤務時間帯）'!$C$5:$Y$46,23,FALSE)) | AA24: =IF(AA22="","",VLOOKUP(AA22,'シフト記号表（勤務時間帯）'!$C$5:$Y$46,23,FALSE)) | ... AX24: =IF(AX22="","",VLOOKUP(AX22,'シフト記号表（勤務時間帯）'!$C$5:$Y$46,23,FALSE)) | AY24: =IF($BB$3="計画",SUM(T24:AU24),IF($BB$3="実績",SUM(T24:AX24),"")) -> 0 | BA24: =IF($BB$3="計画",AY24/4,IF($BB$3="実績",(AY24/($BB$7/7)),"")) -> 0
O25: シフト記号
B26: =B23+1 -> 3 | O26: 日中の勤務時間数 | T26: =IF(T25="","",VLOOKUP(T25,'シフト記号表（勤務時間帯）'!$C$5:$W$46,21,FALSE)) | U26: =IF(U25="","",VLOOKUP(U25,'シフト記号表（勤務時間帯）'!$C$5:$W$46,21,FALSE)) | V26: =IF(V25="","",VLOOKUP(V25,'シフト記号表（勤務時間帯）'!$C$5:$W$46,21,FALSE)) | W26: =IF(W25="","",VLOOKUP(W25,'シフト記号表（勤務時間帯）'!$C$5:$W$46,21,FALSE)) | X26: =IF(X25="","",VLOOKUP(X25,'シフト記号表（勤務時間帯）'!$C$5:$W$46,21,FALSE)) | Y26: =IF(Y25="","",VLOOKUP(Y25,'シフト記号表（勤務時間帯）'!$C$5:$W$46,21,FALSE)) | Z26: =IF(Z25="","",VLOOKUP(Z25,'シフト記号表（勤務時間帯）'!$C$5:$W$46,21,FALSE)) | AA26: =IF(AA25="","",VLOOKUP(AA25,'シフト記号表（勤務時間帯）'!$C$5:$W$46,21,FALSE)) | ... AX26: =IF(AX25="","",VLOOKUP(AX25,'シフト記号表（勤務時間帯）'!$C$5:$W$46,21,FALSE)) | AY26: =IF($BB$3="計画",SUM(T26:AU26),IF($BB$3="実績",SUM(T26:AX26),"")) -> 0 | BA26: =IF($BB$3="計画",AY26/4,IF($BB$3="実績",(AY26/($BB$7/7)),"")) -> 0
F27: =C26 -> 0 | O27: 夜間・深夜の勤務時間数 | T27: =IF(T25="","",VLOOKUP(T25,'シフト記号表（勤務時間帯）'!$C$5:$Y$46,23,FALSE)) | U27: =IF(U25="","",VLOOKUP(U25,'シフト記号表（勤務時間帯）'!$C$5:$Y$46,23,FALSE)) | V27: =IF(V25="","",VLOOKUP(V25,'シフト記号表（勤務時間帯）'!$C$5:$Y$46,23,FALSE)) | W27: =IF(W25="","",VLOOKUP(W25,'シフト記号表（勤務時間帯）'!$C$5:$Y$46,23,FALSE)) | X27: =IF(X25="","",VLOOKUP(X25,'シフト記号表（勤務時間帯）'!$C$5:$Y$46,23,FALSE)) | Y27: =IF(Y25="","",VLOOKUP(Y25,'シフト記号表（勤務時間帯）'!$C$5:$Y$46,23,FALSE)) | Z27: =IF(Z25="","",VLOOKUP(Z25,'シフト記号表（勤務時間帯）'!$C$5:$Y$46,23,FALSE)) | AA27: =IF(AA25="","",VLOOKUP(AA25,'シフト記号表（勤務時間帯）'!$C$5:$Y$46,23,FALSE)) | ... AX27: =IF(AX25="","",VLOOKUP(AX25,'シフト記号表（勤務時間帯）'!$C$5:$Y$46,23,FALSE)) | AY27: =IF($BB$3="計画",SUM(T27:AU27),IF($BB$3="実績",SUM(T27:AX27),"")) -> 0 | BA27: =IF($BB$3="計画",AY27/4,IF($BB$3="実績",(AY27/($BB$7/7)),"")) -> 0
O28: シフト記号
B29: =B26+1 -> 4 | O29: 日中の勤務時間数 | T29: =IF(T28="","",VLOOKUP(T28,'シフト記号表（勤務時間帯）'!$C$5:$W$46,21,FALSE)) | U29: =IF(U28="","",VLOOKUP(U28,'シフト記号表（勤務時間帯）'!$C$5:$W$46,21,FALSE)) | V29: =IF(V28="","",VLOOKUP(V28,'シフト記号表（勤務時間帯）'!$C$5:$W$46,21,FALSE)) | W29: =IF(W28="","",VLOOKUP(W28,'シフト記号表（勤務時間帯）'!$C$5:$W$46,21,FALSE)) | X29: =IF(X28="","",VLOOKUP(X28,'シフト記号表（勤務時間帯）'!$C$5:$W$46,21,FALSE)) | Y29: =IF(Y28="","",VLOOKUP(Y28,'シフト記号表（勤務時間帯）'!$C$5:$W$46,21,FALSE)) | Z29: =IF(Z28="","",VLOOKUP(Z28,'シフト記号表（勤務時間帯）'!$C$5:$W$46,21,FALSE)) | AA29: =IF(AA28="","",VLOOKUP(AA28,'シフト記号表（勤務時間帯）'!$C$5:$W$46,21,FALSE)) | ... AX29: =IF(AX28="","",VLOOKUP(AX28,'シフト記号表（勤務時間帯）'!$C$5:$W$46,21,FALSE)) | AY29: =IF($BB$3="計画",SUM(T29:AU29),IF($BB$3="実績",SUM(T29:AX29),"")) -> 0 | BA29: =IF($BB$3="計画",AY29/4,IF($BB$3="実績",(AY29/($BB$7/7)),"")) -> 0
F30: =C29 -> 0 | O30: 夜間・深夜の勤務時間数 | T30: =IF(T28="","",VLOOKUP(T28,'シフト記号表（勤務時間帯）'!$C$5:$Y$46,23,FALSE)) | U30: =IF(U28="","",VLOOKUP(U28,'シフト記号表（勤務時間帯）'!$C$5:$Y$46,23,FALSE)) | V30: =IF(V28="","",VLOOKUP(V28,'シフト記号表（勤務時間帯）'!$C$5:$Y$46,23,FALSE)) | W30: =IF(W28="","",VLOOKUP(W28,'シフト記号表（勤務時間帯）'!$C$5:$Y$46,23,FALSE)) | X30: =IF(X28="","",VLOOKUP(X28,'シフト記号表（勤務時間帯）'!$C$5:$Y$46,23,FALSE)) | Y30: =IF(Y28="","",VLOOKUP(Y28,'シフト記号表（勤務時間帯）'!$C$5:$Y$46,23,FALSE)) | Z30: =IF(Z28="","",VLOOKUP(Z28,'シフト記号表（勤務時間帯）'!$C$5:$Y$46,23,FALSE)) | AA30: =IF(AA28="","",VLOOKUP(AA28,'シフト記号表（勤務時間帯）'!$C$5:$Y$46,23,FALSE)) | ... AX30: =IF(AX28="","",VLOOKUP(AX28,'シフト記号表（勤務時間帯）'!$C$5:$Y$46,23,FALSE)) | AY30: =IF($BB$3="計画",SUM(T30:AU30),IF($BB$3="実績",SUM(T30:AX30),"")) -> 0 | BA30: =IF($BB$3="計画",AY30/4,IF($BB$3="実績",(AY30/($BB$7/7)),"")) -> 0
O31: シフト記号
B32: =B29+1 -> 5 | O32: 日中の勤務時間数 | T32: =IF(T31="","",VLOOKUP(T31,'シフト記号表（勤務時間帯）'!$C$5:$W$46,21,FALSE)) | U32: =IF(U31="","",VLOOKUP(U31,'シフト記号表（勤務時間帯）'!$C$5:$W$46,21,FALSE)) | V32: =IF(V31="","",VLOOKUP(V31,'シフト記号表（勤務時間帯）'!$C$5:$W$46,21,FALSE)) | W32: =IF(W31="","",VLOOKUP(W31,'シフト記号表（勤務時間帯）'!$C$5:$W$46,21,FALSE)) | X32: =IF(X31="","",VLOOKUP(X31,'シフト記号表（勤務時間帯）'!$C$5:$W$46,21,FALSE)) | Y32: =IF(Y31="","",VLOOKUP(Y31,'シフト記号表（勤務時間帯）'!$C$5:$W$46,21,FALSE)) | Z32: =IF(Z31="","",VLOOKUP(Z31,'シフト記号表（勤務時間帯）'!$C$5:$W$46,21,FALSE)) | AA32: =IF(AA31="","",VLOOKUP(AA31,'シフト記号表（勤務時間帯）'!$C$5:$W$46,21,FALSE)) | ... AX32: =IF(AX31="","",VLOOKUP(AX31,'シフト記号表（勤務時間帯）'!$C$5:$W$46,21,FALSE)) | AY32: =IF($BB$3="計画",SUM(T32:AU32),IF($BB$3="実績",SUM(T32:AX32),"")) -> 0 | BA32: =IF($BB$3="計画",AY32/4,IF($BB$3="実績",(AY32/($BB$7/7)),"")) -> 0
F33: =C32 -> 0 | O33: 夜間・深夜の勤務時間数 | T33: =IF(T31="","",VLOOKUP(T31,'シフト記号表（勤務時間帯）'!$C$5:$Y$46,23,FALSE)) | U33: =IF(U31="","",VLOOKUP(U31,'シフト記号表（勤務時間帯）'!$C$5:$Y$46,23,FALSE)) | V33: =IF(V31="","",VLOOKUP(V31,'シフト記号表（勤務時間帯）'!$C$5:$Y$46,23,FALSE)) | W33: =IF(W31="","",VLOOKUP(W31,'シフト記号表（勤務時間帯）'!$C$5:$Y$46,23,FALSE)) | X33: =IF(X31="","",VLOOKUP(X31,'シフト記号表（勤務時間帯）'!$C$5:$Y$46,23,FALSE)) | Y33: =IF(Y31="","",VLOOKUP(Y31,'シフト記号表（勤務時間帯）'!$C$5:$Y$46,23,FALSE)) | Z33: =IF(Z31="","",VLOOKUP(Z31,'シフト記号表（勤務時間帯）'!$C$5:$Y$46,23,FALSE)) | AA33: =IF(AA31="","",VLOOKUP(AA31,'シフト記号表（勤務時間帯）'!$C$5:$Y$46,23,FALSE)) | ... AX33: =IF(AX31="","",VLOOKUP(AX31,'シフト記号表（勤務時間帯）'!$C$5:$Y$46,23,FALSE)) | AY33: =IF($BB$3="計画",SUM(T33:AU33),IF($BB$3="実績",SUM(T33:AX33),"")) -> 0 | BA33: =IF($BB$3="計画",AY33/4,IF($BB$3="実績",(AY33/($BB$7/7)),"")) -> 0
O34: シフト記号
B35: =B32+1 -> 6 | O35: 日中の勤務時間数 | T35: =IF(T34="","",VLOOKUP(T34,'シフト記号表（勤務時間帯）'!$C$5:$W$46,21,FALSE)) | U35: =IF(U34="","",VLOOKUP(U34,'シフト記号表（勤務時間帯）'!$C$5:$W$46,21,FALSE)) | V35: =IF(V34="","",VLOOKUP(V34,'シフト記号表（勤務時間帯）'!$C$5:$W$46,21,FALSE)) | W35: =IF(W34="","",VLOOKUP(W34,'シフト記号表（勤務時間帯）'!$C$5:$W$46,21,FALSE)) | X35: =IF(X34="","",VLOOKUP(X34,'シフト記号表（勤務時間帯）'!$C$5:$W$46,21,FALSE)) | Y35: =IF(Y34="","",VLOOKUP(Y34,'シフト記号表（勤務時間帯）'!$C$5:$W$46,21,FALSE)) | Z35: =IF(Z34="","",VLOOKUP(Z34,'シフト記号表（勤務時間帯）'!$C$5:$W$46,21,FALSE)) | AA35: =IF(AA34="","",VLOOKUP(AA34,'シフト記号表（勤務時間帯）'!$C$5:$W$46,21,FALSE)) | ... AX35: =IF(AX34="","",VLOOKUP(AX34,'シフト記号表（勤務時間帯）'!$C$5:$W$46,21,FALSE)) | AY35: =IF($BB$3="計画",SUM(T35:AU35),IF($BB$3="実績",SUM(T35:AX35),"")) -> 0 | BA35: =IF($BB$3="計画",AY35/4,IF($BB$3="実績",(AY35/($BB$7/7)),"")) -> 0
F36: =C35 -> 0 | O36: 夜間・深夜の勤務時間数 | T36: =IF(T34="","",VLOOKUP(T34,'シフト記号表（勤務時間帯）'!$C$5:$Y$46,23,FALSE)) | U36: =IF(U34="","",VLOOKUP(U34,'シフト記号表（勤務時間帯）'!$C$5:$Y$46,23,FALSE)) | V36: =IF(V34="","",VLOOKUP(V34,'シフト記号表（勤務時間帯）'!$C$5:$Y$46,23,FALSE)) | W36: =IF(W34="","",VLOOKUP(W34,'シフト記号表（勤務時間帯）'!$C$5:$Y$46,23,FALSE)) | X36: =IF(X34="","",VLOOKUP(X34,'シフト記号表（勤務時間帯）'!$C$5:$Y$46,23,FALSE)) | Y36: =IF(Y34="","",VLOOKUP(Y34,'シフト記号表（勤務時間帯）'!$C$5:$Y$46,23,FALSE)) | Z36: =IF(Z34="","",VLOOKUP(Z34,'シフト記号表（勤務時間帯）'!$C$5:$Y$46,23,FALSE)) | AA36: =IF(AA34="","",VLOOKUP(AA34,'シフト記号表（勤務時間帯）'!$C$5:$Y$46,23,FALSE)) | ... AX36: =IF(AX34="","",VLOOKUP(AX34,'シフト記号表（勤務時間帯）'!$C$5:$Y$46,23,FALSE)) | AY36: =IF($BB$3="計画",SUM(T36:AU36),IF($BB$3="実績",SUM(T36:AX36),"")) -> 0 | BA36: =IF($BB$3="計画",AY36/4,IF($BB$3="実績",(AY36/($BB$7/7)),"")) -> 0
O37: シフト記号
B38: =B35+1 -> 7 | O38: 日中の勤務時間数 | T38: =IF(T37="","",VLOOKUP(T37,'シフト記号表（勤務時間帯）'!$C$5:$W$46,21,FALSE)) | U38: =IF(U37="","",VLOOKUP(U37,'シフト記号表（勤務時間帯）'!$C$5:$W$46,21,FALSE)) | V38: =IF(V37="","",VLOOKUP(V37,'シフト記号表（勤務時間帯）'!$C$5:$W$46,21,FALSE)) | W38: =IF(W37="","",VLOOKUP(W37,'シフト記号表（勤務時間帯）'!$C$5:$W$46,21,FALSE)) | X38: =IF(X37="","",VLOOKUP(X37,'シフト記号表（勤務時間帯）'!$C$5:$W$46,21,FALSE)) | Y38: =IF(Y37="","",VLOOKUP(Y37,'シフト記号表（勤務時間帯）'!$C$5:$W$46,21,FALSE)) | Z38: =IF(Z37="","",VLOOKUP(Z37,'シフト記号表（勤務時間帯）'!$C$5:$W$46,21,FALSE)) | AA38: =IF(AA37="","",VLOOKUP(AA37,'シフト記号表（勤務時間帯）'!$C$5:$W$46,21,FALSE)) | ... AX38: =IF(AX37="","",VLOOKUP(AX37,'シフト記号表（勤務時間帯）'!$C$5:$W$46,21,FALSE)) | AY38: =IF($BB$3="計画",SUM(T38:AU38),IF($BB$3="実績",SUM(T38:AX38),"")) -> 0 | BA38: =IF($BB$3="計画",AY38/4,IF($BB$3="実績",(AY38/($BB$7/7)),"")) -> 0
F39: =C38 -> 0 | O39: 夜間・深夜の勤務時間数 | T39: =IF(T37="","",VLOOKUP(T37,'シフト記号表（勤務時間帯）'!$C$5:$Y$46,23,FALSE)) | U39: =IF(U37="","",VLOOKUP(U37,'シフト記号表（勤務時間帯）'!$C$5:$Y$46,23,FALSE)) | V39: =IF(V37="","",VLOOKUP(V37,'シフト記号表（勤務時間帯）'!$C$5:$Y$46,23,FALSE)) | W39: =IF(W37="","",VLOOKUP(W37,'シフト記号表（勤務時間帯）'!$C$5:$Y$46,23,FALSE)) | X39: =IF(X37="","",VLOOKUP(X37,'シフト記号表（勤務時間帯）'!$C$5:$Y$46,23,FALSE)) | Y39: =IF(Y37="","",VLOOKUP(Y37,'シフト記号表（勤務時間帯）'!$C$5:$Y$46,23,FALSE)) | Z39: =IF(Z37="","",VLOOKUP(Z37,'シフト記号表（勤務時間帯）'!$C$5:$Y$46,23,FALSE)) | AA39: =IF(AA37="","",VLOOKUP(AA37,'シフト記号表（勤務時間帯）'!$C$5:$Y$46,23,FALSE)) | ... AX39: =IF(AX37="","",VLOOKUP(AX37,'シフト記号表（勤務時間帯）'!$C$5:$Y$46,23,FALSE)) | AY39: =IF($BB$3="計画",SUM(T39:AU39),IF($BB$3="実績",SUM(T39:AX39),"")) -> 0 | BA39: =IF($BB$3="計画",AY39/4,IF($BB$3="実績",(AY39/($BB$7/7)),"")) -> 0
O40: シフト記号
B41: =B38+1 -> 8 | O41: 日中の勤務時間数 | T41: =IF(T40="","",VLOOKUP(T40,'シフト記号表（勤務時間帯）'!$C$5:$W$46,21,FALSE)) | U41: =IF(U40="","",VLOOKUP(U40,'シフト記号表（勤務時間帯）'!$C$5:$W$46,21,FALSE)) | V41: =IF(V40="","",VLOOKUP(V40,'シフト記号表（勤務時間帯）'!$C$5:$W$46,21,FALSE)) | W41: =IF(W40="","",VLOOKUP(W40,'シフト記号表（勤務時間帯）'!$C$5:$W$46,21,FALSE)) | X41: =IF(X40="","",VLOOKUP(X40,'シフト記号表（勤務時間帯）'!$C$5:$W$46,21,FALSE)) | Y41: =IF(Y40="","",VLOOKUP(Y40,'シフト記号表（勤務時間帯）'!$C$5:$W$46,21,FALSE)) | Z41: =IF(Z40="","",VLOOKUP(Z40,'シフト記号表（勤務時間帯）'!$C$5:$W$46,21,FALSE)) | AA41: =IF(AA40="","",VLOOKUP(AA40,'シフト記号表（勤務時間帯）'!$C$5:$W$46,21,FALSE)) | ... AX41: =IF(AX40="","",VLOOKUP(AX40,'シフト記号表（勤務時間帯）'!$C$5:$W$46,21,FALSE)) | AY41: =IF($BB$3="計画",SUM(T41:AU41),IF($BB$3="実績",SUM(T41:AX41),"")) -> 0 | BA41: =IF($BB$3="計画",AY41/4,IF($BB$3="実績",(AY41/($BB$7/7)),"")) -> 0
F42: =C41 -> 0 | O42: 夜間・深夜の勤務時間数 | T42: =IF(T40="","",VLOOKUP(T40,'シフト記号表（勤務時間帯）'!$C$5:$Y$46,23,FALSE)) | U42: =IF(U40="","",VLOOKUP(U40,'シフト記号表（勤務時間帯）'!$C$5:$Y$46,23,FALSE)) | V42: =IF(V40="","",VLOOKUP(V40,'シフト記号表（勤務時間帯）'!$C$5:$Y$46,23,FALSE)) | W42: =IF(W40="","",VLOOKUP(W40,'シフト記号表（勤務時間帯）'!$C$5:$Y$46,23,FALSE)) | X42: =IF(X40="","",VLOOKUP(X40,'シフト記号表（勤務時間帯）'!$C$5:$Y$46,23,FALSE)) | Y42: =IF(Y40="","",VLOOKUP(Y40,'シフト記号表（勤務時間帯）'!$C$5:$Y$46,23,FALSE)) | Z42: =IF(Z40="","",VLOOKUP(Z40,'シフト記号表（勤務時間帯）'!$C$5:$Y$46,23,FALSE)) | AA42: =IF(AA40="","",VLOOKUP(AA40,'シフト記号表（勤務時間帯）'!$C$5:$Y$46,23,FALSE)) | ... AX42: =IF(AX40="","",VLOOKUP(AX40,'シフト記号表（勤務時間帯）'!$C$5:$Y$46,23,FALSE)) | AY42: =IF($BB$3="計画",SUM(T42:AU42),IF($BB$3="実績",SUM(T42:AX42),"")) -> 0 | BA42: =IF($BB$3="計画",AY42/4,IF($BB$3="実績",(AY42/($BB$7/7)),"")) -> 0
O43: シフト記号
B44: =B41+1 -> 9 | O44: 日中の勤務時間数 | T44: =IF(T43="","",VLOOKUP(T43,'シフト記号表（勤務時間帯）'!$C$5:$W$46,21,FALSE)) | U44: =IF(U43="","",VLOOKUP(U43,'シフト記号表（勤務時間帯）'!$C$5:$W$46,21,FALSE)) | V44: =IF(V43="","",VLOOKUP(V43,'シフト記号表（勤務時間帯）'!$C$5:$W$46,21,FALSE)) | W44: =IF(W43="","",VLOOKUP(W43,'シフト記号表（勤務時間帯）'!$C$5:$W$46,21,FALSE)) | X44: =IF(X43="","",VLOOKUP(X43,'シフト記号表（勤務時間帯）'!$C$5:$W$46,21,FALSE)) | Y44: =IF(Y43="","",VLOOKUP(Y43,'シフト記号表（勤務時間帯）'!$C$5:$W$46,21,FALSE)) | Z44: =IF(Z43="","",VLOOKUP(Z43,'シフト記号表（勤務時間帯）'!$C$5:$W$46,21,FALSE)) | AA44: =IF(AA43="","",VLOOKUP(AA43,'シフト記号表（勤務時間帯）'!$C$5:$W$46,21,FALSE)) | ... AX44: =IF(AX43="","",VLOOKUP(AX43,'シフト記号表（勤務時間帯）'!$C$5:$W$46,21,FALSE)) | AY44: =IF($BB$3="計画",SUM(T44:AU44),IF($BB$3="実績",SUM(T44:AX44),"")) -> 0 | BA44: =IF($BB$3="計画",AY44/4,IF($BB$3="実績",(AY44/($BB$7/7)),"")) -> 0
...

Sheet シフト記号表（勤務時間帯）
B1: ≪要 提出≫
B2: ■シフト記号表（勤務時間帯） | E2: ※24時間表記 | I2: 休憩時間1時間は「1:00」、休憩時間45分は「00:45」と入力してください。
E3: 勤務時間 | M3: 日中の時間帯 | Q3: 日中の勤務時間 | Y3: 夜間及び深夜
B4: （記号の意味） | C4: 記号 | E4: 始業時間 | G4: 終業時間 | I4: うち、休憩時間 | K4: 勤務時間 | M4: 開始 | O4: 終了 | Q4: 開始 | S4: 終了 | U4: うち、休憩時間 | W4: 勤務時間 | Y4: の勤務時間
B5: 休：休暇 | C5: 休 | D5: ： | E5: - | F5: ～ | G5: - | H5: （ | I5: - | J5: ） | K5: - | M5: - | N5: ～ | O5: - | Q5: - | R5: ～ | S5: - | T5: （ | U5: - | V5: ） | W5: - | Y5: -
B6: 出：出張 | C6: 出 | D6: ： | E6: - | F6: ～ | G6: - | H6: （ | I6: - | J6: ） | K6: - | M6: - | N6: ～ | O6: - | Q6: - | R6: ～ | S6: - | T6: （ | U6: - | V6: ） | W6: - | Y6: -
B7: 研：研修 | C7: 研 | D7: ： | E7: - | F7: ～ | G7: - | H7: （ | I7: - | J7: ） | K7: - | M7: - | N7: ～ | O7: - | Q7: - | R7: ～ | S7: - | T7: （ | U7: - | V7: ） | W7: - | Y7: -
C8: a | D8: ： | E8: 0.5 | F8: ～ | G8: 0.66666667 | H8: （ | I8: 0.041666667 | J8: ） | K8: =IF(OR(E8="",G8=""),"",(G8+IF(E8>G8,1,0)-E8-I8)*24) -> 3 | M8: =看多機!$J$11 -> 0.29166667 | N8: ～ | O8: =看多機!$N$11 -> 0.83333333 | Q8: =IF(E8="","",IF(E8<M8,M8,IF(E8>=O8,"",E8))) -> 0.5 | R8: ～ | S8: =IF(G8="","",IF(G8>E8,IF(G8<O8,G8,O8),O8)) -> 0.66666667 | T8: （ | U8: =I8 -> 0.041666667 | V8: ） | W8: =IF(Q8="","",IF((S8+IF(Q8>S8,1,0)-Q8-U8)*24=0,"",(S8+IF(Q8>S8,1,0)-Q8-U8)*24)) -> 3 | Y8: =IF(W8="",K8,IF(OR(K8-W8=0,K8-W8<0),"-",K8-W8)) -> -
C9: b | D9: ： | E9: 0.45833333 | F9: ～ | G9: 0.83333333 | H9: （ | I9: 0.041666667 | J9: ） | K9: =IF(OR(E9="",G9=""),"",(G9+IF(E9>G9,1,0)-E9-I9)*24) -> 8 | M9: =看多機!$J$11 -> 0.29166667 | N9: ～ | O9: =看多機!$N$11 -> 0.83333333 | Q9: =IF(E9="","",IF(E9<M9,M9,IF(E9>=O9,"",E9))) -> 0.45833333 | R9: ～ | S9: =IF(G9="","",IF(G9>E9,IF(G9<O9,G9,O9),O9)) -> 0.83333333 | T9: （ | U9: =I9 -> 0.041666667 | V9: ） | W9: =IF(Q9="","",IF((S9+IF(Q9>S9,1,0)-Q9-U9)*24=0,"",(S9+IF(Q9>S9,1,0)-Q9-U9)*24)) -> 8 | Y9: =IF(W9="",K9,IF(OR(K9-W9=0,K9-W9<0),"-",K9-W9)) -> -
C10: c | D10: ： | E10: 0.375 | F10: ～ | G10: 0.75 | H10: （ | I10: 0.041666667 | J10: ） | K10: =IF(OR(E10="",G10=""),"",(G10+IF(E10>G10,1,0)-E10-I10)*24) -> 8 | M10: =看多機!$J$11 -> 0.29166667 | N10: ～ | O10: =看多機!$N$11 -> 0.83333333 | Q10: =IF(E10="","",IF(E10<M10,M10,IF(E10>=O10,"",E10))) -> 0.375 | R10: ～ | S10: =IF(G10="","",IF(G10>E10,IF(G10<O10,G10,O10),O10)) -> 0.75 | T10: （ | U10: =I10 -> 0.041666667 | V10: ） | W10: =IF(Q10="","",IF((S10+IF(Q10>S10,1,0)-Q10-U10)*24=0,"",(S10+IF(Q10>S10,1,0)-Q10-U10)*24)) -> 8 | Y10: =IF(W10="",K10,IF(OR(K10-W10=0,K10-W10<0),"-",K10-W10)) -> -
C11: d | D11: ： | E11: 0.35416667 | F11: ～ | G11: 0.72916667 | H11: （ | I11: 0.041666667 | J11: ） | K11: =IF(OR(E11="",G11=""),"",(G11+IF(E11>G11,1,0)-E11-I11)*24) -> 8 | M11: =看多機!$J$11 -> 0.29166667 | N11: ～ | O11: =看多機!$N$11 -> 0.83333333 | Q11: =IF(E11="","",IF(E11<M11,M11,IF(E11>=O11,"",E11))) -> 0.35416667 | R11: ～ | S11: =IF(G11="","",IF(G11>E11,IF(G11<O11,G11,O11),O11)) -> 0.72916667 | T11: （ | U11: =I11 -> 0.041666667 | V11: ） | W11: =IF(Q11="","",IF((S11+IF(Q11>S11,1,0)-Q11-U11)*24=0,"",(S11+IF(Q11>S11,1,0)-Q11-U11)*24)) -> 8 | Y11: =IF(W11="",K11,IF(OR(K11-W11=0,K11-W11<0),"-",K11-W11)) -> -
C12: e | D12: ： | E12: 0.375 | F12: ～ | G12: 0.60416667 | H12: （ | I12: 0 | J12: ） | K12: =IF(OR(E12="",G12=""),"",(G12+IF(E12>G12,1,0)-E12-I12)*24) -> 5.5 | M12: =看多機!$J$11 -> 0.29166667 | N12: ～ | O12: =看多機!$N$11 -> 0.83333333 | Q12: =IF(E12="","",IF(E12<M12,M12,IF(E12>=O12,"",E12))) -> 0.375 | R12: ～ | S12: =IF(G12="","",IF(G12>E12,IF(G12<O12,G12,O12),O12)) -> 0.60416667 | T12: （ | U12: =I12 -> 0 | V12: ） | W12: =IF(Q12="","",IF((S12+IF(Q12>S12,1,0)-Q12-U12)*24=0,"",(S12+IF(Q12>S12,1,0)-Q12-U12)*24)) -> 5.5 | Y12: =IF(W12="",K12,IF(OR(K12-W12=0,K12-W12<0),"-",K12-W12)) -> -
C13: f | D13: ： | E13: 0.375 | F13: ～ | G13: 0.625 | H13: （ | I13: 0.020833333 | J13: ） | K13: =IF(OR(E13="",G13=""),"",(G13+IF(E13>G13,1,0)-E13-I13)*24) -> 5.5 | M13: =看多機!$J$11 -> 0.29166667 | N13: ～ | O13: =看多機!$N$11 -> 0.83333333 | Q13: =IF(E13="","",IF(E13<M13,M13,IF(E13>=O13,"",E13))) -> 0.375 | R13: ～ | S13: =IF(G13="","",IF(G13>E13,IF(G13<O13,G13,O13),O13)) -> 0.625 | T13: （ | U13: =I13 -> 0.020833333 | V13: ） | W13: =IF(Q13="","",IF((S13+IF(Q13>S13,1,0)-Q13-U13)*24=0,"",(S13+IF(Q13>S13,1,0)-Q13-U13)*24)) -> 5.5 | Y13: =IF(W13="",K13,IF(OR(K13-W13=0,K13-W13<0),"-",K13-W13)) -> -
C14: g | D14: ： | E14: 0.29166667 | F14: ～ | G14: 0.39583333 | H14: （ | I14: 0 | J14: ） | K14: =IF(OR(E14="",G14=""),"",(G14+IF(E14>G14,1,0)-E14-I14)*24) -> 2.5 | M14: =看多機!$J$11 -> 0.29166667 | N14: ～ | O14: =看多機!$N$11 -> 0.83333333 | Q14: =IF(E14="","",IF(E14<M14,M14,IF(E14>=O14,"",E14))) -> 0.29166667 | R14: ～ | S14: =IF(G14="","",IF(G14>E14,IF(G14<O14,G14,O14),O14)) -> 0.39583333 | T14: （ | U14: =I14 -> 0 | V14: ） | W14: =IF(Q14="","",IF((S14+IF(Q14>S14,1,0)-Q14-U14)*24=0,"",(S14+IF(Q14>S14,1,0)-Q14-U14)*24)) -> 2.5 | Y14: =IF(W14="",K14,IF(OR(K14-W14=0,K14-W14<0),"-",K14-W14)) -> -
C15: h | D15: ： | E15: 0.6875 | F15: ～ | G15: 0.83333333 | H15: （ | I15: 0 | J15: ） | K15: =IF(OR(E15="",G15=""),"",(G15+IF(E15>G15,1,0)-E15-I15)*24) -> 3.5 | M15: =看多機!$J$11 -> 0.29166667 | N15: ～ | O15: =看多機!$N$11 -> 0.83333333 | Q15: =IF(E15="","",IF(E15<M15,M15,IF(E15>=O15,"",E15))) -> 0.6875 | R15: ～ | S15: =IF(G15="","",IF(G15>E15,IF(G15<O15,G15,O15),O15)) -> 0.83333333 | T15: （ | U15: =I15 -> 0 | V15: ） | W15: =IF(Q15="","",IF((S15+IF(Q15>S15,1,0)-Q15-U15)*24=0,"",(S15+IF(Q15>S15,1,0)-Q15-U15)*24)) -> 3.5 | Y15: =IF(W15="",K15,IF(OR(K15-W15=0,K15-W15<0),"-",K15-W15)) -> -
C16: i | D16: ： | E16: 0.66666667 | F16: ～ | G16: 0.29166667 | H16: （ | I16: 0.041666667 | J16: ） | K16: =IF(OR(E16="",G16=""),"",(G16+IF(E16>G16,1,0)-E16-I16)*24) -> 14 | M16: =看多機!$J$11 -> 0.29166667 | N16: ～ | O16: =看多機!$N$11 -> 0.83333333 | Q16: =IF(E16="","",IF(E16<M16,M16,IF(E16>=O16,"",E16))) -> 0.66666667 | R16: ～ | S16: =IF(G16="","",IF(G16>E16,IF(G16<O16,G16,O16),O16)) -> 0.83333333 | T16: （ | U16: =I16 -> 0.041666667 | V16: ） | W16: =IF(Q16="","",IF((S16+IF(Q16>S16,1,0)-Q16-U16)*24=0,"",(S16+IF(Q16>S16,1,0)-Q16-U16)*24)) -> 3 | Y16: =IF(W16="",K16,IF(OR(K16-W16=0,K16-W16<0),"-",K16-W16)) -> 11
C17: j | D17: ： | E17: 0.29166667 | F17: ～ | G17: 0.375 | H17: （ | I17: 0 | J17: ） | K17: =IF(OR(E17="",G17=""),"",(G17+IF(E17>G17,1,0)-E17-I17)*24) -> 2 | M17: =看多機!$J$11 -> 0.29166667 | N17: ～ | O17: =看多機!$N$11 -> 0.83333333 | Q17: =IF(E17="","",IF(E17<M17,M17,IF(E17>=O17,"",E17))) -> 0.29166667 | R17: ～ | S17: =IF(G17="","",IF(G17>E17,IF(G17<O17,G17,O17),O17)) -> 0.375 | T17: （ | U17: =I17 -> 0 | V17: ） | W17: =IF(Q17="","",IF((S17+IF(Q17>S17,1,0)-Q17-U17)*24=0,"",(S17+IF(Q17>S17,1,0)-Q17-U17)*24)) -> 2 | Y17: =IF(W17="",K17,IF(OR(K17-W17=0,K17-W17<0),"-",K17-W17)) -> -
C18: k | D18: ： | F18: ～ | H18: （ | I18: 0 | J18: ） | K18: =IF(OR(E18="",G18=""),"",(G18+IF(E18>G18,1,0)-E18-I18)*24) | M18: =看多機!$J$11 -> 0.29166667 | N18: ～ | O18: =看多機!$N$11 -> 0.83333333 | Q18: =IF(E18="","",IF(E18<M18,M18,IF(E18>=O18,"",E18))) | R18: ～ | S18: =IF(G18="","",IF(G18>E18,IF(G18<O18,G18,O18),O18)) | T18: （ | U18: =I18 -> 0 | V18: ） | W18: =IF(Q18="","",IF((S18+IF(Q18>S18,1,0)-Q18-U18)*24=0,"",(S18+IF(Q18>S18,1,0)-Q18-U18)*24)) | Y18: =IF(W18="",K18,IF(OR(K18-W18=0,K18-W18<0),"-",K18-W18))
C19: l | D19: ： | F19: ～ | H19: （ | I19: 0 | J19: ） | K19: =IF(OR(E19="",G19=""),"",(G19+IF(E19>G19,1,0)-E19-I19)*24) | M19: =看多機!$J$11 -> 0.29166667 | N19: ～ | O19: =看多機!$N$11 -> 0.83333333 | Q19: =IF(E19="","",IF(E19<M19,M19,IF(E19>=O19,"",E19))) | R19: ～ | S19: =IF(G19="","",IF(G19>E19,IF(G19<O19,G19,O19),O19)) | T19: （ | U19: =I19 -> 0 | V19: ） | W19: =IF(Q19="","",IF((S19+IF(Q19>S19,1,0)-Q19-U19)*24=0,"",(S19+IF(Q19>S19,1,0)-Q19-U19)*24)) | Y19: =IF(W19="",K19,IF(OR(K19-W19=0,K19-W19<0),"-",K19-W19))
C20: m | D20: ： | F20: ～ | H20: （ | I20: 0 | J20: ） | K20: =IF(OR(E20="",G20=""),"",(G20+IF(E20>G20,1,0)-E20-I20)*24) | M20: =看多機!$J$11 -> 0.29166667 | N20: ～ | O20: =看多機!$N$11 -> 0.83333333 | Q20: =IF(E20="","",IF(E20<M20,M20,IF(E20>=O20,"",E20))) | R20: ～ | S20: =IF(G20="","",IF(G20>E20,IF(G20<O20,G20,O20),O20)) | T20: （ | U20: =I20 -> 0 | V20: ） | W20: =IF(Q20="","",IF((S20+IF(Q20>S20,1,0)-Q20-U20)*24=0,"",(S20+IF(Q20>S20,1,0)-Q20-U20)*24)) | Y20: =IF(W20="",K20,IF(OR(K20-W20=0,K20-W20<0),"-",K20-W20))
C21: n | D21: ： | F21: ～ | H21: （ | I21: 0 | J21: ） | K21: =IF(OR(E21="",G21=""),"",(G21+IF(E21>G21,1,0)-E21-I21)*24) | M21: =看多機!$J$11 -> 0.29166667 | N21: ～ | O21: =看多機!$N$11 -> 0.83333333 | Q21: =IF(E21="","",IF(E21<M21,M21,IF(E21>=O21,"",E21))) | R21: ～ | S21: =IF(G21="","",IF(G21>E21,IF(G21<O21,G21,O21),O21)) | T21: （ | U21: =I21 -> 0 | V21: ） | W21: =IF(Q21="","",IF((S21+IF(Q21>S21,1,0)-Q21-U21)*24=0,"",(S21+IF(Q21>S21,1,0)-Q21-U21)*24)) | Y21: =IF(W21="",K21,IF(OR(K21-W21=0,K21-W21<0),"-",K21-W21))
C22: o | D22: ： | F22: ～ | H22: （ | J22: ） | K22: 1 | N22: ～ | R22: ～ | T22: （ | V22: ） | W22: 1 | Y22: -
C23: p | D23: ： | F23: ～ | H23: （ | J23: ） | K23: 2 | N23: ～ | R23: ～ | T23: （ | V23: ） | W23: 2 | Y23: -
C24: q | D24: ： | F24: ～ | H24: （ | J24: ） | K24: 3 | N24: ～ | R24: ～ | T24: （ | V24: ） | W24: 3 | Y24: -
C25: r | D25: ： | F25: ～ | H25: （ | J25: ） | K25: 4 | N25: ～ | R25: ～ | T25: （ | V25: ） | W25: 4 | Y25: -
C26: s | D26: ： | F26: ～ | H26: （ | J26: ） | K26: 5 | N26: ～ | R26: ～ | T26: （ | V26: ） | W26: 5 | Y26: -
C27: t | D27: ： | F27: ～ | H27: （ | J27: ） | K27: 6 | N27: ～ | R27: ～ | T27: （ | V27: ） | W27: 6 | Y27: -
C28: u | D28: ： | F28: ～ | H28: （ | J28: ） | K28: 7 | N28: ～ | R28: ～ | T28: （ | V28: ） | W28: 7 | Y28: -
C29: v | D29: ： | F29: ～ | H29: （ | J29: ） | K29: 8 | N29: ～ | R29: ～ | T29: （ | V29: ） | W29: 8 | Y29: -
C30: w | D30: ： | F30: ～ | H30: （ | J30: ） | K30: 1 | N30: ～ | R30: ～ | T30: （ | V30: ） | W30: - | Y30: 1
C31: x | D31: ： | F31: ～ | H31: （ | J31: ） | K31: 2 | N31: ～ | R31: ～ | T31: （ | V31: ） | W31: - | Y31: 2
C32: y | D32: ： | F32: ～ | H32: （ | J32: ） | K32: 3 | N32: ～ | R32: ～ | T32: （ | V32: ） | W32: - | Y32: 3
C33: z | D33: ： | F33: ～ | H33: （ | J33: ） | K33: 4 | N33: ～ | R33: ～ | T33: （ | V33: ） | W33: - | Y33: 4
C34: aa | D34: ： | F34: ～ | H34: （ | J34: ） | K34: 5 | N34: ～ | R34: ～ | T34: （ | V34: ） | W34: - | Y34: 5
C35: ab | D35: ： | F35: ～ | H35: （ | J35: ） | K35: 6 | N35: ～ | R35: ～ | T35: （ | V35: ） | W35: - | Y35: 6
C36: ac | D36: ： | F36: ～ | H36: （ | J36: ） | K36: 7 | N36: ～ | R36: ～ | T36: （ | V36: ） | W36: - | Y36: 7
C37: ad | D37: ： | F37: ～ | H37: （ | J37: ） | K37: 8 | N37: ～ | R37: ～ | T37: （ | V37: ） | W37: - | Y37: 8
C38: ae | D38: ： | F38: ～ | H38: （ | I38: 0 | J38: ） | K38: =IF(OR(E38="",G38=""),"",(G38+IF(E38>G38,1,0)-E38-I38)*24) | M38: =看多機!$J$11 -> 0.29166667 | N38: ～ | O38: =看多機!$N$11 -> 0.83333333 | Q38: =IF(E38="","",IF(E38<M38,M38,IF(E38>=O38,"",E38))) | R38: ～ | S38: =IF(G38="","",IF(G38>E38,IF(G38<O38,G38,O38),O38)) | T38: （ | U38: =I38 -> 0 | V38: ） | W38: =IF(Q38="","",IF((S38+IF(Q38>S38,1,0)-Q38-U38)*24=0,"",(S38+IF(Q38>S38,1,0)-Q38-U38)*24)) | Y38: =IF(W38="",K38,IF(OR(K38-W38=0,K38-W38<0),"-",K38-W38))
C39: af | D39: ： | F39: ～ | H39: （ | I39: 0 | J39: ） | K39: =IF(OR(E39="",G39=""),"",(G39+IF(E39>G39,1,0)-E39-I39)*24) | M39: =看多機!$J$11 -> 0.29166667 | N39: ～ | O39: =看多機!$N$11 -> 0.83333333 | Q39: =IF(E39="","",IF(E39<M39,M39,IF(E39>=O39,"",E39))) | R39: ～ | S39: =IF(G39="","",IF(G39>E39,IF(G39<O39,G39,O39),O39)) | T39: （ | U39: =I39 -> 0 | V39: ） | W39: =IF(Q39="","",IF((S39+IF(Q39>S39,1,0)-Q39-U39)*24=0,"",(S39+IF(Q39>S39,1,0)-Q39-U39)*24)) | Y39: =IF(W39="",K39,IF(OR(K39-W39=0,K39-W39<0),"-",K39-W39))
C40: ag | D40: ： | F40: ～ | H40: （ | I40: 0 | J40: ） | K40: =IF(OR(E40="",G40=""),"",(G40+IF(E40>G40,1,0)-E40-I40)*24) | M40: =看多機!$J$11 -> 0.29166667 | N40: ～ | O40: =看多機!$N$11 -> 0.83333333 | Q40: =IF(E40="","",IF(E40<M40,M40,IF(E40>=O40,"",E40))) | R40: ～ | S40: =IF(G40="","",IF(G40>E40,IF(G40<O40,G40,O40),O40)) | T40: （ | U40: =I40 -> 0 | V40: ） | W40: =IF(Q40="","",IF((S40+IF(Q40>S40,1,0)-Q40-U40)*24=0,"",(S40+IF(Q40>S40,1,0)-Q40-U40)*24)) | Y40: =IF(W40="",K40,IF(OR(K40-W40=0,K40-W40<0),"-",K40-W40))
...

Sheet 【記載例】看多機
C1: （参考様式） | J1: 従業者の勤務の体制及び勤務形態一覧表 | AP1: サービス種別（ | AQ1: 看護小規模多機能型居宅介護 | BG1: ）
Y2: 令和 | Z2: 8 | AB2: ( | AC2: =IF(Z2=0,"",YEAR(DATE(2018+Z2,1,1))) -> 2026 | AE2: ) | AF2: 年 | AG2: 4 | AI2: 月 | AP2: 事業所名（ | AQ2: ○○サービス | BG2: ）
BA3: (1) | BB3: 計画
AH5: (2) 事業所における常勤の従業者が勤務すべき時間数 | AT5: 8 | AV5: 時間/日 | AX5: 40 | AZ5: 時間/週 | BB5: 160 | BD5: 時間/月
AY7: 当月の日数 | BB7: =DAY(EOMONTH(DATE(AC2,AG2,1),0)) -> 30 | BD7: 日
AN9: (4) 定員 | AX9: (5) 利用者数（通いサービス）
B10: (3) 日中／夜間及び深夜の時間帯の区分 | AO10: 登録定員 | AT10: 24 | AV10: 人 | AY10: 前年度の平均値 | BC10: 10 | BE10: 人
B11: 利用者の生活時間帯（日中） | J11: 0.29166667 | M11: ～ | N11: 0.83333333 | AO11: 通いサービスの定員 | AT11: 15 | AV11: 人 | AY11: （新規に指定を受ける場合）
B12: 夜間及び深夜の時間帯 | J12: 0.83333333 | M12: ～ | N12: 0.29166667 | AO12: 宿泊サービスの定員 | AT12: 9 | AV12: 人 | AY12: 推定数 | BE12: 人
B14: No | C14: (6) 職種 | G14: (7) 勤務 形態 | H14: (8) 資格 | L14: (9) 氏 名 | O14: 日中／夜間及び深夜 の区分 | AH14: (10) 勤 務 時 間 数 | AM14: （宿直 ･･･ | AP14: ） | AY14: =IF(BB3="計画","(11)1～4週目の勤務時間数合計","(11)1か月の勤務時間数 合計") -> (11)1～4週目の勤務時間数合計 | BA14: (12) 週平均 勤務時間数 | BC14: (13) 兼務状況 （兼務先/兼務する職務の内容 /兼務時間数）
T15: 1週目 | AA15: 2週目 | AH15: 3週目 | AO15: 4週目 | AV15: 5週目
T16: 1 | U16: 2 | V16: 3 | W16: 4 | X16: 5 | Y16: 6 | Z16: 7 | AA16: 8 | AB16: 9 | AC16: 10 | AD16: 11 | AE16: 12 | AF16: 13 | AG16: 14 | AH16: 15 | AI16: 16 | AJ16: 17 | AK16: 18 | AL16: 19 | AM16: 20 | AN16: 21 | AO16: 22 | AP16: 23 | AQ16: 24 | AR16: 25 | AS16: 26 | AT16: 27 | AU16: 28 | AV16: =IF($BB$3="実績",IF(DAY(DATE($AC$2,$AG$2,29))=29,29,""),"") | AW16: =IF($BB$3="実績",IF(DAY(DATE($AC$2,$AG$2,30))=30,30,""),"") | AX16: =IF($BB$3="実績",IF(DAY(DATE($AC$2,$AG$2,31))=31,31,""),"")
T17: =WEEKDAY(DATE($AC$2,$AG$2,1)) -> 4 | U17: =WEEKDAY(DATE($AC$2,$AG$2,2)) -> 5 | V17: =WEEKDAY(DATE($AC$2,$AG$2,3)) -> 6 | W17: =WEEKDAY(DATE($AC$2,$AG$2,4)) -> 7 | X17: =WEEKDAY(DATE($AC$2,$AG$2,5)) -> 1 | Y17: =WEEKDAY(DATE($AC$2,$AG$2,6)) -> 2 | Z17: =WEEKDAY(DATE($AC$2,$AG$2,7)) -> 3 | AA17: =WEEKDAY(DATE($AC$2,$AG$2,8)) -> 4 | AB17: =WEEKDAY(DATE($AC$2,$AG$2,9)) -> 5 | AC17: =WEEKDAY(DATE($AC$2,$AG$2,10)) -> 6 | AD17: =WEEKDAY(DATE($AC$2,$AG$2,11)) -> 7 | AE17: =WEEKDAY(DATE($AC$2,$AG$2,12)) -> 1 | AF17: =WEEKDAY(DATE($AC$2,$AG$2,13)) -> 2 | AG17: =WEEKDAY(DATE($AC$2,$AG$2,14)) -> 3 | AH17: =WEEKDAY(DATE($AC$2,$AG$2,15)) -> 4 | AI17: =WEEKDAY(DATE($AC$2,$AG$2,16)) -> 5 | AJ17: =WEEKDAY(DATE($AC$2,$AG$2,17)) -> 6 | AK17: =WEEKDAY(DATE($AC$2,$AG$2,18)) -> 7 | AL17: =WEEKDAY(DATE($AC$2,$AG$2,19)) -> 1 | AM17: =WEEKDAY(DATE($AC$2,$AG$2,20)) -> 2 | AN17: =WEEKDAY(DATE($AC$2,$AG$2,21)) -> 3 | AO17: =WEEKDAY(DATE($AC$2,$AG$2,22)) -> 4 | AP17: =WEEKDAY(DATE($AC$2,$AG$2,23)) -> 5 | AQ17: =WEEKDAY(DATE($AC$2,$AG$2,24)) -> 6 | AR17: =WEEKDAY(DATE($AC$2,$AG$2,25)) -> 7 | AS17: =WEEKDAY(DATE($AC$2,$AG$2,26)) -> 1 | AT17: =WEEKDAY(DATE($AC$2,$AG$2,27)) -> 2 | AU17: =WEEKDAY(DATE($AC$2,$AG$2,28)) -> 3 | AV17: =IF(AV16=29,WEEKDAY(DATE($AC$2,$AG$2,29)),0) -> 0 | AW17: =IF(AW16=30,WEEKDAY(DATE($AC$2,$AG$2,30)),0) -> 0 | AX17: =IF(AX16=31,WEEKDAY(DATE($AC$2,$AG$2,31)),0) -> 0
T18: =IF(T17=1,"日",IF(T17=2,"月",IF(T17=3,"火",IF(T17=4,"水",IF(T17=5,"木",IF(T17=6,"金","土")))))) -> 水 | U18: =IF(U17=1,"日",IF(U17=2,"月",IF(U17=3,"火",IF(U17=4,"水",IF(U17=5,"木",IF(U17=6,"金","土")))))) -> 木 | V18: =IF(V17=1,"日",IF(V17=2,"月",IF(V17=3,"火",IF(V17=4,"水",IF(V17=5,"木",IF(V17=6,"金","土")))))) -> 金 | W18: =IF(W17=1,"日",IF(W17=2,"月",IF(W17=3,"火",IF(W17=4,"水",IF(W17=5,"木",IF(W17=6,"金","土")))))) -> 土 | X18: =IF(X17=1,"日",IF(X17=2,"月",IF(X17=3,"火",IF(X17=4,"水",IF(X17=5,"木",IF(X17=6,"金","土")))))) -> 日 | Y18: =IF(Y17=1,"日",IF(Y17=2,"月",IF(Y17=3,"火",IF(Y17=4,"水",IF(Y17=5,"木",IF(Y17=6,"金","土")))))) -> 月 | Z18: =IF(Z17=1,"日",IF(Z17=2,"月",IF(Z17=3,"火",IF(Z17=4,"水",IF(Z17=5,"木",IF(Z17=6,"金","土")))))) -> 火 | AA18: =IF(AA17=1,"日",IF(AA17=2,"月",IF(AA17=3,"火",IF(AA17=4,"水",IF(AA17=5,"木",IF(AA17=6,"金","土")))))) -> 水 | ... AU18: =IF(AU17=1,"日",IF(AU17=2,"月",IF(AU17=3,"火",IF(AU17=4,"水",IF(AU17=5,"木",IF(AU17=6,"金","土")))))) -> 火 | AV18: =IF(AV17=1,"日",IF(AV17=2,"月",IF(AV17=3,"火",IF(AV17=4,"水",IF(AV17=5,"木",IF(AV17=6,"金",IF(AV17=0,"","土"))))))) | AW18: =IF(AW17=1,"日",IF(AW17=2,"月",IF(AW17=3,"火",IF(AW17=4,"水",IF(AW17=5,"木",IF(AW17=6,"金",IF(AW17=0,"","土"))))))) | AX18: =IF(AX17=1,"日",IF(AX17=2,"月",IF(AX17=3,"火",IF(AX17=4,"水",IF(AX17=5,"木",IF(AX17=6,"金",IF(AX17=0,"","土")))))))
G19: A | L19: 厚労 太郎 | O19: シフト記号 | T19: c | U19: c | V19: c | W19: 休 | X19: c | Y19: a | Z19: 休 | AA19: c | AB19: 休 | AC19: 休 | AD19: c | AE19: c | AF19: 休 | AG19: c | AH19: 休 | AI19: c | AJ19: c | AK19: c | AL19: c | AM19: c | AN19: 休 | AO19: 休 | AP19: c | AQ19: c | AR19: c | AS19: c | AT19: c | AU19: 休
B20: 1 | C20: 管理者 | H20: 保健師 | O20: 日中の勤務時間数 | T20: =IF(T19="","",VLOOKUP(T19,'【記載例】シフト記号表（勤務時間帯）'!$C$5:$W$46,21,FALSE)) -> 8 | U20: =IF(U19="","",VLOOKUP(U19,'【記載例】シフト記号表（勤務時間帯）'!$C$5:$W$46,21,FALSE)) -> 8 | V20: =IF(V19="","",VLOOKUP(V19,'【記載例】シフト記号表（勤務時間帯）'!$C$5:$W$46,21,FALSE)) -> 8 | W20: =IF(W19="","",VLOOKUP(W19,'【記載例】シフト記号表（勤務時間帯）'!$C$5:$W$46,21,FALSE)) -> - | X20: =IF(X19="","",VLOOKUP(X19,'【記載例】シフト記号表（勤務時間帯）'!$C$5:$W$46,21,FALSE)) -> 8 | Y20: =IF(Y19="","",VLOOKUP(Y19,'【記載例】シフト記号表（勤務時間帯）'!$C$5:$W$46,21,FALSE)) -> 8 | Z20: =IF(Z19="","",VLOOKUP(Z19,'【記載例】シフト記号表（勤務時間帯）'!$C$5:$W$46,21,FALSE)) -> - | AA20: =IF(AA19="","",VLOOKUP(AA19,'【記載例】シフト記号表（勤務時間帯）'!$C$5:$W$46,21,FALSE)) -> 8 | ... AX20: =IF(AX19="","",VLOOKUP(AX19,'【記載例】シフト記号表（勤務時間帯）'!$C$5:$W$46,21,FALSE)) | AY20: =IF($BB$3="計画",SUM(T20:AU20),IF($BB$3="実績",SUM(T20:AX20),"")) -> 152 | BA20: =IF($BB$3="計画",AY20/4,IF($BB$3="実績",(AY20/($BB$7/7)),"")) -> 38
F21: =C20 -> 管理者 | O21: 夜間・深夜の勤務時間数 | T21: =IF(T19="","",VLOOKUP(T19,'【記載例】シフト記号表（勤務時間帯）'!$C$5:$Y$46,23,FALSE)) -> - | U21: =IF(U19="","",VLOOKUP(U19,'【記載例】シフト記号表（勤務時間帯）'!$C$5:$Y$46,23,FALSE)) -> - | V21: =IF(V19="","",VLOOKUP(V19,'【記載例】シフト記号表（勤務時間帯）'!$C$5:$Y$46,23,FALSE)) -> - | W21: =IF(W19="","",VLOOKUP(W19,'【記載例】シフト記号表（勤務時間帯）'!$C$5:$Y$46,23,FALSE)) -> - | X21: =IF(X19="","",VLOOKUP(X19,'【記載例】シフト記号表（勤務時間帯）'!$C$5:$Y$46,23,FALSE)) -> - | Y21: =IF(Y19="","",VLOOKUP(Y19,'【記載例】シフト記号表（勤務時間帯）'!$C$5:$Y$46,23,FALSE)) -> - | Z21: =IF(Z19="","",VLOOKUP(Z19,'【記載例】シフト記号表（勤務時間帯）'!$C$5:$Y$46,23,FALSE)) -> - | AA21: =IF(AA19="","",VLOOKUP(AA19,'【記載例】シフト記号表（勤務時間帯）'!$C$5:$Y$46,23,FALSE)) -> - | ... AX21: =IF(AX19="","",VLOOKUP(AX19,'【記載例】シフト記号表（勤務時間帯）'!$C$5:$Y$46,23,FALSE)) | AY21: =IF($BB$3="計画",SUM(T21:AU21),IF($BB$3="実績",SUM(T21:AX21),"")) -> 0 | BA21: =IF($BB$3="計画",AY21/4,IF($BB$3="実績",(AY21/($BB$7/7)),"")) -> 0
G22: A | L22: ○○ A男 | O22: シフト記号 | T22: d | U22: d | V22: d | W22: d | X22: 休 | Y22: d | Z22: d | AA22: 休 | AB22: d | AC22: d | AD22: d | AE22: 休 | AF22: 休 | AG22: d | AH22: d | AI22: d | AJ22: 休 | AK22: d | AL22: d | AM22: d | AN22: d | AO22: d | AP22: 休 | AQ22: d | AR22: 休 | AS22: d | AT22: 休 | AU22: d
B23: =B20+1 -> 2 | C23: 介護支援専門員 | H23: 介護支援専門員 | O23: 日中の勤務時間数 | T23: =IF(T22="","",VLOOKUP(T22,'【記載例】シフト記号表（勤務時間帯）'!$C$5:$W$46,21,FALSE)) -> 8 | U23: =IF(U22="","",VLOOKUP(U22,'【記載例】シフト記号表（勤務時間帯）'!$C$5:$W$46,21,FALSE)) -> 8 | V23: =IF(V22="","",VLOOKUP(V22,'【記載例】シフト記号表（勤務時間帯）'!$C$5:$W$46,21,FALSE)) -> 8 | W23: =IF(W22="","",VLOOKUP(W22,'【記載例】シフト記号表（勤務時間帯）'!$C$5:$W$46,21,FALSE)) -> 8 | X23: =IF(X22="","",VLOOKUP(X22,'【記載例】シフト記号表（勤務時間帯）'!$C$5:$W$46,21,FALSE)) -> - | Y23: =IF(Y22="","",VLOOKUP(Y22,'【記載例】シフト記号表（勤務時間帯）'!$C$5:$W$46,21,FALSE)) -> 8 | Z23: =IF(Z22="","",VLOOKUP(Z22,'【記載例】シフト記号表（勤務時間帯）'!$C$5:$W$46,21,FALSE)) -> 8 | AA23: =IF(AA22="","",VLOOKUP(AA22,'【記載例】シフト記号表（勤務時間帯）'!$C$5:$W$46,21,FALSE)) -> - | ... AX23: =IF(AX22="","",VLOOKUP(AX22,'【記載例】シフト記号表（勤務時間帯）'!$C$5:$W$46,21,FALSE)) | AY23: =IF($BB$3="計画",SUM(T23:AU23),IF($BB$3="実績",SUM(T23:AX23),"")) -> 160 | BA23: =IF($BB$3="計画",AY23/4,IF($BB$3="実績",(AY23/($BB$7/7)),"")) -> 40
F24: =C23 -> 介護支援専門員 | O24: 夜間・深夜の勤務時間数 | T24: =IF(T22="","",VLOOKUP(T22,'【記載例】シフト記号表（勤務時間帯）'!$C$5:$Y$46,23,FALSE)) -> - | U24: =IF(U22="","",VLOOKUP(U22,'【記載例】シフト記号表（勤務時間帯）'!$C$5:$Y$46,23,FALSE)) -> - | V24: =IF(V22="","",VLOOKUP(V22,'【記載例】シフト記号表（勤務時間帯）'!$C$5:$Y$46,23,FALSE)) -> - | W24: =IF(W22="","",VLOOKUP(W22,'【記載例】シフト記号表（勤務時間帯）'!$C$5:$Y$46,23,FALSE)) -> - | X24: =IF(X22="","",VLOOKUP(X22,'【記載例】シフト記号表（勤務時間帯）'!$C$5:$Y$46,23,FALSE)) -> - | Y24: =IF(Y22="","",VLOOKUP(Y22,'【記載例】シフト記号表（勤務時間帯）'!$C$5:$Y$46,23,FALSE)) -> - | Z24: =IF(Z22="","",VLOOKUP(Z22,'【記載例】シフト記号表（勤務時間帯）'!$C$5:$Y$46,23,FALSE)) -> - | AA24: =IF(AA22="","",VLOOKUP(AA22,'【記載例】シフト記号表（勤務時間帯）'!$C$5:$Y$46,23,FALSE)) -> - | ... AX24: =IF(AX22="","",VLOOKUP(AX22,'【記載例】シフト記号表（勤務時間帯）'!$C$5:$Y$46,23,FALSE)) | AY24: =IF($BB$3="計画",SUM(T24:AU24),IF($BB$3="実績",SUM(T24:AX24),"")) -> 0 | BA24: =IF($BB$3="計画",AY24/4,IF($BB$3="実績",(AY24/($BB$7/7)),"")) -> 0
G25: A | L25: ○○ B子 | O25: シフト記号 | T25: i | U25: j | V25: 休 | W25: a | X25: c | Y25: 休 | Z25: a | AA25: i | AB25: j | AC25: c | AD25: 休 | AE25: a | AF25: c | AG25: 休 | AH25: c | AI25: i | AJ25: j | AK25: 休 | AL25: 休 | AM25: i | AN25: j | AO25: 休 | AP25: a | AQ25: c | AR25: i | AS25: j | AT25: 休 | AU25: 休
B26: =B23+1 -> 3 | C26: 看護職員 | H26: 保健師 | O26: 日中の勤務時間数 | T26: =IF(T25="","",VLOOKUP(T25,'【記載例】シフト記号表（勤務時間帯）'!$C$5:$W$46,21,FALSE)) -> 3 | U26: =IF(U25="","",VLOOKUP(U25,'【記載例】シフト記号表（勤務時間帯）'!$C$5:$W$46,21,FALSE)) -> 5 | V26: =IF(V25="","",VLOOKUP(V25,'【記載例】シフト記号表（勤務時間帯）'!$C$5:$W$46,21,FALSE)) -> - | W26: =IF(W25="","",VLOOKUP(W25,'【記載例】シフト記号表（勤務時間帯）'!$C$5:$W$46,21,FALSE)) -> 8 | X26: =IF(X25="","",VLOOKUP(X25,'【記載例】シフト記号表（勤務時間帯）'!$C$5:$W$46,21,FALSE)) -> 8 | Y26: =IF(Y25="","",VLOOKUP(Y25,'【記載例】シフト記号表（勤務時間帯）'!$C$5:$W$46,21,FALSE)) -> - | Z26: =IF(Z25="","",VLOOKUP(Z25,'【記載例】シフト記号表（勤務時間帯）'!$C$5:$W$46,21,FALSE)) -> 8 | AA26: =IF(AA25="","",VLOOKUP(AA25,'【記載例】シフト記号表（勤務時間帯）'!$C$5:$W$46,21,FALSE)) -> 3 | ... AX26: =IF(AX25="","",VLOOKUP(AX25,'【記載例】シフト記号表（勤務時間帯）'!$C$5:$W$46,21,FALSE)) | AY26: =IF($BB$3="計画",SUM(T26:AU26),IF($BB$3="実績",SUM(T26:AX26),"")) -> 112 | BA26: =IF($BB$3="計画",AY26/4,IF($BB$3="実績",(AY26/($BB$7/7)),"")) -> 28
F27: =C26 -> 看護職員 | O27: 夜間・深夜の勤務時間数 | T27: =IF(T25="","",VLOOKUP(T25,'【記載例】シフト記号表（勤務時間帯）'!$C$5:$Y$46,23,FALSE)) -> 11 | U27: =IF(U25="","",VLOOKUP(U25,'【記載例】シフト記号表（勤務時間帯）'!$C$5:$Y$46,23,FALSE)) -> - | V27: =IF(V25="","",VLOOKUP(V25,'【記載例】シフト記号表（勤務時間帯）'!$C$5:$Y$46,23,FALSE)) -> - | W27: =IF(W25="","",VLOOKUP(W25,'【記載例】シフト記号表（勤務時間帯）'!$C$5:$Y$46,23,FALSE)) -> - | X27: =IF(X25="","",VLOOKUP(X25,'【記載例】シフト記号表（勤務時間帯）'!$C$5:$Y$46,23,FALSE)) -> - | Y27: =IF(Y25="","",VLOOKUP(Y25,'【記載例】シフト記号表（勤務時間帯）'!$C$5:$Y$46,23,FALSE)) -> - | Z27: =IF(Z25="","",VLOOKUP(Z25,'【記載例】シフト記号表（勤務時間帯）'!$C$5:$Y$46,23,FALSE)) -> - | AA27: =IF(AA25="","",VLOOKUP(AA25,'【記載例】シフト記号表（勤務時間帯）'!$C$5:$Y$46,23,FALSE)) -> 11 | ... AX27: =IF(AX25="","",VLOOKUP(AX25,'【記載例】シフト記号表（勤務時間帯）'!$C$5:$Y$46,23,FALSE)) | AY27: =IF($BB$3="計画",SUM(T27:AU27),IF($BB$3="実績",SUM(T27:AX27),"")) -> 55 | BA27: =IF($BB$3="計画",AY27/4,IF($BB$3="実績",(AY27/($BB$7/7)),"")) -> 13.75
G28: A | L28: ○○ C太 | O28: シフト記号 | T28: 休 | U28: i | V28: j | W28: 休 | X28: 休 | Y28: i | Z28: j | AA28: 休 | AB28: a | AC28: i | AD28: j | AE28: 休 | AF28: b | AG28: a | AH28: 休 | AI28: a | AJ28: c | AK28: i | AL28: j | AM28: 休 | AN28: a | AO28: b | AP28: c | AQ28: i | AR28: j | AS28: 休 | AT28: 休 | AU28: a
B29: =B26+1 -> 4 | C29: 看護職員 | H29: 看護師 | O29: 日中の勤務時間数 | T29: =IF(T28="","",VLOOKUP(T28,'【記載例】シフト記号表（勤務時間帯）'!$C$5:$W$46,21,FALSE)) -> - | U29: =IF(U28="","",VLOOKUP(U28,'【記載例】シフト記号表（勤務時間帯）'!$C$5:$W$46,21,FALSE)) -> 3 | V29: =IF(V28="","",VLOOKUP(V28,'【記載例】シフト記号表（勤務時間帯）'!$C$5:$W$46,21,FALSE)) -> 5 | W29: =IF(W28="","",VLOOKUP(W28,'【記載例】シフト記号表（勤務時間帯）'!$C$5:$W$46,21,FALSE)) -> - | X29: =IF(X28="","",VLOOKUP(X28,'【記載例】シフト記号表（勤務時間帯）'!$C$5:$W$46,21,FALSE)) -> - | Y29: =IF(Y28="","",VLOOKUP(Y28,'【記載例】シフト記号表（勤務時間帯）'!$C$5:$W$46,21,FALSE)) -> 3 | Z29: =IF(Z28="","",VLOOKUP(Z28,'【記載例】シフト記号表（勤務時間帯）'!$C$5:$W$46,21,FALSE)) -> 5 | AA29: =IF(AA28="","",VLOOKUP(AA28,'【記載例】シフト記号表（勤務時間帯）'!$C$5:$W$46,21,FALSE)) -> - | ... AX29: =IF(AX28="","",VLOOKUP(AX28,'【記載例】シフト記号表（勤務時間帯）'!$C$5:$W$46,21,FALSE)) | AY29: =IF($BB$3="計画",SUM(T29:AU29),IF($BB$3="実績",SUM(T29:AX29),"")) -> 112 | BA29: =IF($BB$3="計画",AY29/4,IF($BB$3="実績",(AY29/($BB$7/7)),"")) -> 28
F30: =C29 -> 看護職員 | O30: 夜間・深夜の勤務時間数 | T30: =IF(T28="","",VLOOKUP(T28,'【記載例】シフト記号表（勤務時間帯）'!$C$5:$Y$46,23,FALSE)) -> - | U30: =IF(U28="","",VLOOKUP(U28,'【記載例】シフト記号表（勤務時間帯）'!$C$5:$Y$46,23,FALSE)) -> 11 | V30: =IF(V28="","",VLOOKUP(V28,'【記載例】シフト記号表（勤務時間帯）'!$C$5:$Y$46,23,FALSE)) -> - | W30: =IF(W28="","",VLOOKUP(W28,'【記載例】シフト記号表（勤務時間帯）'!$C$5:$Y$46,23,FALSE)) -> - | X30: =IF(X28="","",VLOOKUP(X28,'【記載例】シフト記号表（勤務時間帯）'!$C$5:$Y$46,23,FALSE)) -> - | Y30: =IF(Y28="","",VLOOKUP(Y28,'【記載例】シフト記号表（勤務時間帯）'!$C$5:$Y$46,23,FALSE)) -> 11 | Z30: =IF(Z28="","",VLOOKUP(Z28,'【記載例】シフト記号表（勤務時間帯）'!$C$5:$Y$46,23,FALSE)) -> - | AA30: =IF(AA28="","",VLOOKUP(AA28,'【記載例】シフト記号表（勤務時間帯）'!$C$5:$Y$46,23,FALSE)) -> - | ... AX30: =IF(AX28="","",VLOOKUP(AX28,'【記載例】シフト記号表（勤務時間帯）'!$C$5:$Y$46,23,FALSE)) | AY30: =IF($BB$3="計画",SUM(T30:AU30),IF($BB$3="実績",SUM(T30:AX30),"")) -> 55 | BA30: =IF($BB$3="計画",AY30/4,IF($BB$3="実績",(AY30/($BB$7/7)),"")) -> 13.75
G31: A | L31: ○○ D美 | O31: シフト記号 | T31: d | U31: a | V31: 休 | W31: a | X31: d | Y31: d | Z31: 休 | AA31: d | AB31: d | AC31: 休 | AD31: d | AE31: d | AF31: 休 | AG31: d | AH31: d | AI31: 休 | AJ31: a | AK31: 休 | AL31: d | AM31: d | AN31: d | AO31: 休 | AP31: d | AQ31: 休 | AR31: d | AS31: d | AT31: d | AU31: d
B32: =B29+1 -> 5 | C32: 看護職員 | H32: 看護師 | O32: 日中の勤務時間数 | T32: =IF(T31="","",VLOOKUP(T31,'【記載例】シフト記号表（勤務時間帯）'!$C$5:$W$46,21,FALSE)) -> 8 | U32: =IF(U31="","",VLOOKUP(U31,'【記載例】シフト記号表（勤務時間帯）'!$C$5:$W$46,21,FALSE)) -> 8 | V32: =IF(V31="","",VLOOKUP(V31,'【記載例】シフト記号表（勤務時間帯）'!$C$5:$W$46,21,FALSE)) -> - | W32: =IF(W31="","",VLOOKUP(W31,'【記載例】シフト記号表（勤務時間帯）'!$C$5:$W$46,21,FALSE)) -> 8 | X32: =IF(X31="","",VLOOKUP(X31,'【記載例】シフト記号表（勤務時間帯）'!$C$5:$W$46,21,FALSE)) -> 8 | Y32: =IF(Y31="","",VLOOKUP(Y31,'【記載例】シフト記号表（勤務時間帯）'!$C$5:$W$46,21,FALSE)) -> 8 | Z32: =IF(Z31="","",VLOOKUP(Z31,'【記載例】シフト記号表（勤務時間帯）'!$C$5:$W$46,21,FALSE)) -> - | AA32: =IF(AA31="","",VLOOKUP(AA31,'【記載例】シフト記号表（勤務時間帯）'!$C$5:$W$46,21,FALSE)) -> 8 | ... AX32: =IF(AX31="","",VLOOKUP(AX31,'【記載例】シフト記号表（勤務時間帯）'!$C$5:$W$46,21,FALSE)) | AY32: =IF($BB$3="計画",SUM(T32:AU32),IF($BB$3="実績",SUM(T32:AX32),"")) -> 160 | BA32: =IF($BB$3="計画",AY32/4,IF($BB$3="実績",(AY32/($BB$7/7)),"")) -> 40
F33: =C32 -> 看護職員 | O33: 夜間・深夜の勤務時間数 | T33: =IF(T31="","",VLOOKUP(T31,'【記載例】シフト記号表（勤務時間帯）'!$C$5:$Y$46,23,FALSE)) -> - | U33: =IF(U31="","",VLOOKUP(U31,'【記載例】シフト記号表（勤務時間帯）'!$C$5:$Y$46,23,FALSE)) -> - | V33: =IF(V31="","",VLOOKUP(V31,'【記載例】シフト記号表（勤務時間帯）'!$C$5:$Y$46,23,FALSE)) -> - | W33: =IF(W31="","",VLOOKUP(W31,'【記載例】シフト記号表（勤務時間帯）'!$C$5:$Y$46,23,FALSE)) -> - | X33: =IF(X31="","",VLOOKUP(X31,'【記載例】シフト記号表（勤務時間帯）'!$C$5:$Y$46,23,FALSE)) -> - | Y33: =IF(Y31="","",VLOOKUP(Y31,'【記載例】シフト記号表（勤務時間帯）'!$C$5:$Y$46,23,FALSE)) -> - | Z33: =IF(Z31="","",VLOOKUP(Z31,'【記載例】シフト記号表（勤務時間帯）'!$C$5:$Y$46,23,FALSE)) -> - | AA33: =IF(AA31="","",VLOOKUP(AA31,'【記載例】シフト記号表（勤務時間帯）'!$C$5:$Y$46,23,FALSE)) -> - | ... AX33: =IF(AX31="","",VLOOKUP(AX31,'【記載例】シフト記号表（勤務時間帯）'!$C$5:$Y$46,23,FALSE)) | AY33: =IF($BB$3="計画",SUM(T33:AU33),IF($BB$3="実績",SUM(T33:AX33),"")) -> 0 | BA33: =IF($BB$3="計画",AY33/4,IF($BB$3="実績",(AY33/($BB$7/7)),"")) -> 0
G34: A | L34: ○○ E夫 | O34: シフト記号 | T34: j | U34: 休 | V34: a | W34: 休 | X34: i | Y34: j | Z34: 休 | AA34: c | AB34: i | AC34: j | AD34: 休 | AE34: a | AF34: i | AG34: j | AH34: 休 | AI34: c | AJ34: c | AK34: 休 | AL34: c | AM34: 休 | AN34: i | AO34: j | AP34: c | AQ34: c | AR34: 休 | AS34: c | AT34: a | AU34: 休
B35: =B32+1 -> 6 | C35: 看護職員 | H35: 准看護師 | O35: 日中の勤務時間数 | T35: =IF(T34="","",VLOOKUP(T34,'【記載例】シフト記号表（勤務時間帯）'!$C$5:$W$46,21,FALSE)) -> 5 | U35: =IF(U34="","",VLOOKUP(U34,'【記載例】シフト記号表（勤務時間帯）'!$C$5:$W$46,21,FALSE)) -> - | V35: =IF(V34="","",VLOOKUP(V34,'【記載例】シフト記号表（勤務時間帯）'!$C$5:$W$46,21,FALSE)) -> 8 | W35: =IF(W34="","",VLOOKUP(W34,'【記載例】シフト記号表（勤務時間帯）'!$C$5:$W$46,21,FALSE)) -> - | X35: =IF(X34="","",VLOOKUP(X34,'【記載例】シフト記号表（勤務時間帯）'!$C$5:$W$46,21,FALSE)) -> 3 | Y35: =IF(Y34="","",VLOOKUP(Y34,'【記載例】シフト記号表（勤務時間帯）'!$C$5:$W$46,21,FALSE)) -> 5 | Z35: =IF(Z34="","",VLOOKUP(Z34,'【記載例】シフト記号表（勤務時間帯）'!$C$5:$W$46,21,FALSE)) -> - | AA35: =IF(AA34="","",VLOOKUP(AA34,'【記載例】シフト記号表（勤務時間帯）'!$C$5:$W$46,21,FALSE)) -> 8 | ... AX35: =IF(AX34="","",VLOOKUP(AX34,'【記載例】シフト記号表（勤務時間帯）'!$C$5:$W$46,21,FALSE)) | AY35: =IF($BB$3="計画",SUM(T35:AU35),IF($BB$3="実績",SUM(T35:AX35),"")) -> 117 | BA35: =IF($BB$3="計画",AY35/4,IF($BB$3="実績",(AY35/($BB$7/7)),"")) -> 29.25
F36: =C35 -> 看護職員 | O36: 夜間・深夜の勤務時間数 | T36: =IF(T34="","",VLOOKUP(T34,'【記載例】シフト記号表（勤務時間帯）'!$C$5:$Y$46,23,FALSE)) -> - | U36: =IF(U34="","",VLOOKUP(U34,'【記載例】シフト記号表（勤務時間帯）'!$C$5:$Y$46,23,FALSE)) -> - | V36: =IF(V34="","",VLOOKUP(V34,'【記載例】シフト記号表（勤務時間帯）'!$C$5:$Y$46,23,FALSE)) -> - | W36: =IF(W34="","",VLOOKUP(W34,'【記載例】シフト記号表（勤務時間帯）'!$C$5:$Y$46,23,FALSE)) -> - | X36: =IF(X34="","",VLOOKUP(X34,'【記載例】シフト記号表（勤務時間帯）'!$C$5:$Y$46,23,FALSE)) -> 11 | Y36: =IF(Y34="","",VLOOKUP(Y34,'【記載例】シフト記号表（勤務時間帯）'!$C$5:$Y$46,23,FALSE)) -> - | Z36: =IF(Z34="","",VLOOKUP(Z34,'【記載例】シフト記号表（勤務時間帯）'!$C$5:$Y$46,23,FALSE)) -> - | AA36: =IF(AA34="","",VLOOKUP(AA34,'【記載例】シフト記号表（勤務時間帯）'!$C$5:$Y$46,23,FALSE)) -> - | ... AX36: =IF(AX34="","",VLOOKUP(AX34,'【記載例】シフト記号表（勤務時間帯）'!$C$5:$Y$46,23,FALSE)) | AY36: =IF($BB$3="計画",SUM(T36:AU36),IF($BB$3="実績",SUM(T36:AX36),"")) -> 44 | BA36: =IF($BB$3="計画",AY36/4,IF($BB$3="実績",(AY36/($BB$7/7)),"")) -> 11
G37: A | L37: ○○ F子 | O37: シフト記号 | T37: 休 | U37: a | V37: i | W37: j | X37: 休 | Y37: a | Z37: a | AB37: a | AC37: a | AD37: 休 | AE37: i | AF37: j | AG37: a | AH37: 休 | AI37: 休 | AJ37: i | AK37: j | AL37: 休 | AM37: a | AN37: a | AO37: c | AP37: 休 | AQ37: a | AR37: b | AS37: i | AT37: j | AU37: 休
B38: =B35+1 -> 7 | C38: 看護職員 | H38: 准看護師 | O38: 日中の勤務時間数 | T38: =IF(T37="","",VLOOKUP(T37,'【記載例】シフト記号表（勤務時間帯）'!$C$5:$W$46,21,FALSE)) -> - | U38: =IF(U37="","",VLOOKUP(U37,'【記載例】シフト記号表（勤務時間帯）'!$C$5:$W$46,21,FALSE)) -> 8 | V38: =IF(V37="","",VLOOKUP(V37,'【記載例】シフト記号表（勤務時間帯）'!$C$5:$W$46,21,FALSE)) -> 3 | W38: =IF(W37="","",VLOOKUP(W37,'【記載例】シフト記号表（勤務時間帯）'!$C$5:$W$46,21,FALSE)) -> 5 | X38: =IF(X37="","",VLOOKUP(X37,'【記載例】シフト記号表（勤務時間帯）'!$C$5:$W$46,21,FALSE)) -> - | Y38: =IF(Y37="","",VLOOKUP(Y37,'【記載例】シフト記号表（勤務時間帯）'!$C$5:$W$46,21,FALSE)) -> 8 | Z38: =IF(Z37="","",VLOOKUP(Z37,'【記載例】シフト記号表（勤務時間帯）'!$C$5:$W$46,21,FALSE)) -> 8 | AA38: =IF(AA37="","",VLOOKUP(AA37,'【記載例】シフト記号表（勤務時間帯）'!$C$5:$W$46,21,FALSE)) | ... AX38: =IF(AX37="","",VLOOKUP(AX37,'【記載例】シフト記号表（勤務時間帯）'!$C$5:$W$46,21,FALSE)) | AY38: =IF($BB$3="計画",SUM(T38:AU38),IF($BB$3="実績",SUM(T38:AX38),"")) -> 120 | BA38: =IF($BB$3="計画",AY38/4,IF($BB$3="実績",(AY38/($BB$7/7)),"")) -> 30
F39: =C38 -> 看護職員 | O39: 夜間・深夜の勤務時間数 | T39: =IF(T37="","",VLOOKUP(T37,'【記載例】シフト記号表（勤務時間帯）'!$C$5:$Y$46,23,FALSE)) -> - | U39: =IF(U37="","",VLOOKUP(U37,'【記載例】シフト記号表（勤務時間帯）'!$C$5:$Y$46,23,FALSE)) -> - | V39: =IF(V37="","",VLOOKUP(V37,'【記載例】シフト記号表（勤務時間帯）'!$C$5:$Y$46,23,FALSE)) -> 11 | W39: =IF(W37="","",VLOOKUP(W37,'【記載例】シフト記号表（勤務時間帯）'!$C$5:$Y$46,23,FALSE)) -> - | X39: =IF(X37="","",VLOOKUP(X37,'【記載例】シフト記号表（勤務時間帯）'!$C$5:$Y$46,23,FALSE)) -> - | Y39: =IF(Y37="","",VLOOKUP(Y37,'【記載例】シフト記号表（勤務時間帯）'!$C$5:$Y$46,23,FALSE)) -> - | Z39: =IF(Z37="","",VLOOKUP(Z37,'【記載例】シフト記号表（勤務時間帯）'!$C$5:$Y$46,23,FALSE)) -> - | AA39: =IF(AA37="","",VLOOKUP(AA37,'【記載例】シフト記号表（勤務時間帯）'!$C$5:$Y$46,23,FALSE)) | ... AX39: =IF(AX37="","",VLOOKUP(AX37,'【記載例】シフト記号表（勤務時間帯）'!$C$5:$Y$46,23,FALSE)) | AY39: =IF($BB$3="計画",SUM(T39:AU39),IF($BB$3="実績",SUM(T39:AX39),"")) -> 44 | BA39: =IF($BB$3="計画",AY39/4,IF($BB$3="実績",(AY39/($BB$7/7)),"")) -> 11
G40: A | L40: ○○ G太 | O40: シフト記号 | T40: a | U40: c | V40: b | W40: i | X40: j | Y40: 休 | Z40: c | AA40: a | AB40: c | AC40: c | AD40: i | AE40: j | AF40: 休 | AG40: a | AH40: i | AI40: j | AJ40: 休 | AK40: a | AL40: a | AM40: 休 | AN40: 休 | AO40: i | AP40: j | AQ40: 休 | AR40: a | AS40: 休 | AT40: i | AU40: j
B41: =B38+1 -> 8 | C41: 看護職員 | H41: 准看護師 | O41: 日中の勤務時間数 | T41: =IF(T40="","",VLOOKUP(T40,'【記載例】シフト記号表（勤務時間帯）'!$C$5:$W$46,21,FALSE)) -> 8 | U41: =IF(U40="","",VLOOKUP(U40,'【記載例】シフト記号表（勤務時間帯）'!$C$5:$W$46,21,FALSE)) -> 8 | V41: =IF(V40="","",VLOOKUP(V40,'【記載例】シフト記号表（勤務時間帯）'!$C$5:$W$46,21,FALSE)) -> 8 | W41: =IF(W40="","",VLOOKUP(W40,'【記載例】シフト記号表（勤務時間帯）'!$C$5:$W$46,21,FALSE)) -> 3 | X41: =IF(X40="","",VLOOKUP(X40,'【記載例】シフト記号表（勤務時間帯）'!$C$5:$W$46,21,FALSE)) -> 5 | Y41: =IF(Y40="","",VLOOKUP(Y40,'【記載例】シフト記号表（勤務時間帯）'!$C$5:$W$46,21,FALSE)) -> - | Z41: =IF(Z40="","",VLOOKUP(Z40,'【記載例】シフト記号表（勤務時間帯）'!$C$5:$W$46,21,FALSE)) -> 8 | AA41: =IF(AA40="","",VLOOKUP(AA40,'【記載例】シフト記号表（勤務時間帯）'!$C$5:$W$46,21,FALSE)) -> 8 | ... AX41: =IF(AX40="","",VLOOKUP(AX40,'【記載例】シフト記号表（勤務時間帯）'!$C$5:$W$46,21,FALSE)) | AY41: =IF($BB$3="計画",SUM(T41:AU41),IF($BB$3="実績",SUM(T41:AX41),"")) -> 128 | BA41: =IF($BB$3="計画",AY41/4,IF($BB$3="実績",(AY41/($BB$7/7)),"")) -> 32
F42: =C41 -> 看護職員 | O42: 夜間・深夜の勤務時間数 | T42: =IF(T40="","",VLOOKUP(T40,'【記載例】シフト記号表（勤務時間帯）'!$C$5:$Y$46,23,FALSE)) -> - | U42: =IF(U40="","",VLOOKUP(U40,'【記載例】シフト記号表（勤務時間帯）'!$C$5:$Y$46,23,FALSE)) -> - | V42: =IF(V40="","",VLOOKUP(V40,'【記載例】シフト記号表（勤務時間帯）'!$C$5:$Y$46,23,FALSE)) -> - | W42: =IF(W40="","",VLOOKUP(W40,'【記載例】シフト記号表（勤務時間帯）'!$C$5:$Y$46,23,FALSE)) -> 11 | X42: =IF(X40="","",VLOOKUP(X40,'【記載例】シフト記号表（勤務時間帯）'!$C$5:$Y$46,23,FALSE)) -> - | Y42: =IF(Y40="","",VLOOKUP(Y40,'【記載例】シフト記号表（勤務時間帯）'!$C$5:$Y$46,23,FALSE)) -> - | Z42: =IF(Z40="","",VLOOKUP(Z40,'【記載例】シフト記号表（勤務時間帯）'!$C$5:$Y$46,23,FALSE)) -> - | AA42: =IF(AA40="","",VLOOKUP(AA40,'【記載例】シフト記号表（勤務時間帯）'!$C$5:$Y$46,23,FALSE)) -> - | ... AX42: =IF(AX40="","",VLOOKUP(AX40,'【記載例】シフト記号表（勤務時間帯）'!$C$5:$Y$46,23,FALSE)) | AY42: =IF($BB$3="計画",SUM(T42:AU42),IF($BB$3="実績",SUM(T42:AX42),"")) -> 55 | BA42: =IF($BB$3="計画",AY42/4,IF($BB$3="実績",(AY42/($BB$7/7)),"")) -> 13.75
G43: A | L43: ○○ H美 | O43: シフト記号 | T43: j | U43: 休 | V43: c | W43: c | X43: 休 | Y43: 休 | Z43: i | AA43: j | AB43: 休 | AC43: 休 | AD43: a | AE43: c | AF43: c | AG43: i | AH43: j | AI43: c | AJ43: 休 | AK43: b | AL43: i | AM43: j | AN43: 休 | AO43: a | AP43: i | AQ43: j | AR43: 休 | AS43: a | AT43: b | AU43: i
B44: =B41+1 -> 9 | C44: 看護職員 | H44: 准看護師 | O44: 日中の勤務時間数 | T44: =IF(T43="","",VLOOKUP(T43,'【記載例】シフト記号表（勤務時間帯）'!$C$5:$W$46,21,FALSE)) -> 5 | U44: =IF(U43="","",VLOOKUP(U43,'【記載例】シフト記号表（勤務時間帯）'!$C$5:$W$46,21,FALSE)) -> - | V44: =IF(V43="","",VLOOKUP(V43,'【記載例】シフト記号表（勤務時間帯）'!$C$5:$W$46,21,FALSE)) -> 8 | W44: =IF(W43="","",VLOOKUP(W43,'【記載例】シフト記号表（勤務時間帯）'!$C$5:$W$46,21,FALSE)) -> 8 | X44: =IF(X43="","",VLOOKUP(X43,'【記載例】シフト記号表（勤務時間帯）'!$C$5:$W$46,21,FALSE)) -> - | Y44: =IF(Y43="","",VLOOKUP(Y43,'【記載例】シフト記号表（勤務時間帯）'!$C$5:$W$46,21,FALSE)) -> - | Z44: =IF(Z43="","",VLOOKUP(Z43,'【記載例】シフト記号表（勤務時間帯）'!$C$5:$W$46,21,FALSE)) -> 3 | AA44: =IF(AA43="","",VLOOKUP(AA43,'【記載例】シフト記号表（勤務時間帯）'!$C$5:$W$46,21,FALSE)) -> 5 | ... AX44: =IF(AX43="","",VLOOKUP(AX43,'【記載例】シフト記号表（勤務時間帯）'!$C$5:$W$46,21,FALSE)) | AY44: =IF($BB$3="計画",SUM(T44:AU44),IF($BB$3="実績",SUM(T44:AX44),"")) -> 120 | BA44: =IF($BB$3="計画",AY44/4,IF($BB$3="実績",(AY44/($BB$7/7)),"")) -> 30
...

Sheet 【記載例】シフト記号表（勤務時間帯）
B1: ≪要 提出≫
B2: ■シフト記号表（勤務時間帯） | E2: ※24時間表記 | I2: 休憩時間1時間は「1:00」、休憩時間45分は「00:45」と入力してください。
E3: 勤務時間 | M3: 日中の時間帯 | Q3: 日中の勤務時間 | Y3: 夜間及び深夜
B4: （記号の意味） | C4: 記号 | E4: 始業時間 | G4: 終業時間 | I4: うち、休憩時間 | K4: 勤務時間 | M4: 開始 | O4: 終了 | Q4: 開始 | S4: 終了 | U4: うち、休憩時間 | W4: 勤務時間 | Y4: の勤務時間
B5: 休：休暇 | C5: 休 | D5: ： | E5: - | F5: ～ | G5: - | H5: （ | I5: - | J5: ） | K5: - | M5: - | N5: ～ | O5: - | Q5: - | R5: ～ | S5: - | T5: （ | U5: - | V5: ） | W5: - | Y5: -
B6: 出：出張 | C6: 出 | D6: ： | E6: - | F6: ～ | G6: - | H6: （ | I6: - | J6: ） | K6: - | M6: - | N6: ～ | O6: - | Q6: - | R6: ～ | S6: - | T6: （ | U6: - | V6: ） | W6: - | Y6: -
B7: 研：研修 | C7: 研 | D7: ： | E7: - | F7: ～ | G7: - | H7: （ | I7: - | J7: ） | K7: - | M7: - | N7: ～ | O7: - | Q7: - | R7: ～ | S7: - | T7: （ | U7: - | V7: ） | W7: - | Y7: -
C8: a | D8: ： | E8: 0.29166667 | F8: ～ | G8: 0.66666667 | H8: （ | I8: 0.041666667 | J8: ） | K8: =IF(OR(E8="",G8=""),"",(G8+IF(E8>G8,1,0)-E8-I8)*24) -> 8 | M8: =看多機!$J$11 -> 0.29166667 | N8: ～ | O8: =看多機!$N$11 -> 0.83333333 | Q8: =IF(E8="","",IF(E8<M8,M8,IF(E8>=O8,"",E8))) -> 0.29166667 | R8: ～ | S8: =IF(G8="","",IF(G8>E8,IF(G8<O8,G8,O8),O8)) -> 0.66666667 | T8: （ | U8: =I8 -> 0.041666667 | V8: ） | W8: =IF(Q8="","",IF((S8+IF(Q8>S8,1,0)-Q8-U8)*24=0,"",(S8+IF(Q8>S8,1,0)-Q8-U8)*24)) -> 8 | Y8: =IF(W8="",K8,IF(OR(K8-W8=0,K8-W8<0),"-",K8-W8)) -> -
C9: b | D9: ： | E9: 0.45833333 | F9: ～ | G9: 0.83333333 | H9: （ | I9: 0.041666667 | J9: ） | K9: =IF(OR(E9="",G9=""),"",(G9+IF(E9>G9,1,0)-E9-I9)*24) -> 8 | M9: =看多機!$J$11 -> 0.29166667 | N9: ～ | O9: =看多機!$N$11 -> 0.83333333 | Q9: =IF(E9="","",IF(E9<M9,M9,IF(E9>=O9,"",E9))) -> 0.45833333 | R9: ～ | S9: =IF(G9="","",IF(G9>E9,IF(G9<O9,G9,O9),O9)) -> 0.83333333 | T9: （ | U9: =I9 -> 0.041666667 | V9: ） | W9: =IF(Q9="","",IF((S9+IF(Q9>S9,1,0)-Q9-U9)*24=0,"",(S9+IF(Q9>S9,1,0)-Q9-U9)*24)) -> 8 | Y9: =IF(W9="",K9,IF(OR(K9-W9=0,K9-W9<0),"-",K9-W9)) -> -
C10: c | D10: ： | E10: 0.375 | F10: ～ | G10: 0.75 | H10: （ | I10: 0.041666667 | J10: ） | K10: =IF(OR(E10="",G10=""),"",(G10+IF(E10>G10,1,0)-E10-I10)*24) -> 8 | M10: =看多機!$J$11 -> 0.29166667 | N10: ～ | O10: =看多機!$N$11 -> 0.83333333 | Q10: =IF(E10="","",IF(E10<M10,M10,IF(E10>=O10,"",E10))) -> 0.375 | R10: ～ | S10: =IF(G10="","",IF(G10>E10,IF(G10<O10,G10,O10),O10)) -> 0.75 | T10: （ | U10: =I10 -> 0.041666667 | V10: ） | W10: =IF(Q10="","",IF((S10+IF(Q10>S10,1,0)-Q10-U10)*24=0,"",(S10+IF(Q10>S10,1,0)-Q10-U10)*24)) -> 8 | Y10: =IF(W10="",K10,IF(OR(K10-W10=0,K10-W10<0),"-",K10-W10)) -> -
C11: d | D11: ： | E11: 0.35416667 | F11: ～ | G11: 0.72916667 | H11: （ | I11: 0.041666667 | J11: ） | K11: =IF(OR(E11="",G11=""),"",(G11+IF(E11>G11,1,0)-E11-I11)*24) -> 8 | M11: =看多機!$J$11 -> 0.29166667 | N11: ～ | O11: =看多機!$N$11 -> 0.83333333 | Q11: =IF(E11="","",IF(E11<M11,M11,IF(E11>=O11,"",E11))) -> 0.35416667 | R11: ～ | S11: =IF(G11="","",IF(G11>E11,IF(G11<O11,G11,O11),O11)) -> 0.72916667 | T11: （ | U11: =I11 -> 0.041666667 | V11: ） | W11: =IF(Q11="","",IF((S11+IF(Q11>S11,1,0)-Q11-U11)*24=0,"",(S11+IF(Q11>S11,1,0)-Q11-U11)*24)) -> 8 | Y11: =IF(W11="",K11,IF(OR(K11-W11=0,K11-W11<0),"-",K11-W11)) -> -
C12: e | D12: ： | E12: 0.375 | F12: ～ | G12: 0.60416667 | H12: （ | I12: 0 | J12: ） | K12: =IF(OR(E12="",G12=""),"",(G12+IF(E12>G12,1,0)-E12-I12)*24) -> 5.5 | M12: =看多機!$J$11 -> 0.29166667 | N12: ～ | O12: =看多機!$N$11 -> 0.83333333 | Q12: =IF(E12="","",IF(E12<M12,M12,IF(E12>=O12,"",E12))) -> 0.375 | R12: ～ | S12: =IF(G12="","",IF(G12>E12,IF(G12<O12,G12,O12),O12)) -> 0.60416667 | T12: （ | U12: =I12 -> 0 | V12: ） | W12: =IF(Q12="","",IF((S12+IF(Q12>S12,1,0)-Q12-U12)*24=0,"",(S12+IF(Q12>S12,1,0)-Q12-U12)*24)) -> 5.5 | Y12: =IF(W12="",K12,IF(OR(K12-W12=0,K12-W12<0),"-",K12-W12)) -> -
